![]() | Name | Last modified | Size | Description |
---|---|---|---|---|
![]() | Parent Directory | - | ||
![]() | buildsrc-out.txt | 30-Sep-2023 00:35 | 864 | |
![]() | buildsrc-summary.dcf | 30-Sep-2023 00:35 | 413 | |
![]() | checksrc-out.txt | 30-Sep-2023 00:35 | 3.6K | |
![]() | checksrc-summary.dcf | 30-Sep-2023 00:35 | 408 | |
![]() | install-out.txt | 30-Sep-2023 00:35 | 969 | |
![]() | install-summary.dcf | 30-Sep-2023 00:35 | 256 | |