Index of /checkResults/release/bioc-LATEST/miaViz/raw-results
Name
Last modified
Size
Description
Parent Directory
-
palomino3/
08-May-2024 00:38
-
nebbiolo1/
08-May-2024 00:37
-
merida1/
05-Mar-2024 01:39
-
lconway/
08-May-2024 00:39
-
kunpeng2/
08-May-2024 00:40
-
info.dcf
08-May-2024 00:35
272