Index of /checkResults/release/bioc-LATEST/methylGSA/raw-results
Name
Last modified
Size
Description
Parent Directory
-
nebbiolo1/
30-May-2023 00:05
-
palomino3/
30-May-2023 00:06
-
info.dcf
30-May-2023 00:07
268
merida1/
30-May-2023 00:07
-