Index of /checkResults/release/bioc-LATEST/methylGSA/raw-results/nebbiolo1

[ICO]NameLast modifiedSizeDescription

[DIR]Parent Directory  -  
[TXT]buildsrc-out.txt22-Jun-2024 06:38 877  
[   ]buildsrc-summary.dcf22-Jun-2024 06:38 423  
[TXT]checksrc-out.txt22-Jun-2024 06:38 3.9K 
[   ]checksrc-summary.dcf22-Jun-2024 06:38 422  
[TXT]install-out.txt22-Jun-2024 06:38 966  
[   ]install-summary.dcf22-Jun-2024 06:38 263