Index of /checkResults/release/bioc-LATEST/methylGSA/raw-results/lconway

[ICO]NameLast modifiedSizeDescription

[DIR]Parent Directory  -  
[TXT]buildbin-out.txt26-May-2024 00:35 1.2K 
[   ]buildbin-summary.dcf26-May-2024 00:35 542  
[TXT]buildsrc-out.txt26-May-2024 00:35 887  
[   ]buildsrc-summary.dcf26-May-2024 00:35 434  
[TXT]checksrc-out.txt26-May-2024 00:35 4.0K 
[   ]checksrc-summary.dcf26-May-2024 00:35 452  
[TXT]install-out.txt26-May-2024 00:35 1.0K 
[   ]install-summary.dcf26-May-2024 00:35 273