Back to Multiple platform build/check report for BioC 3.18:   simplified   long
ABCDEFGHIJKL[M]NOPQRSTUVWXYZ

This page was generated on 2024-02-20 11:37:59 -0500 (Tue, 20 Feb 2024).

HostnameOSArch (*)R versionInstalled pkgs
nebbiolo2Linux (Ubuntu 22.04.3 LTS)x86_644.3.2 Patched (2023-11-13 r85521) -- "Eye Holes" 4690
palomino4Windows Server 2022 Datacenterx644.3.2 (2023-10-31 ucrt) -- "Eye Holes" 4443
lconwaymacOS 12.7.1 Montereyx86_644.3.2 Patched (2023-11-01 r85457) -- "Eye Holes" 4464
Click on any hostname to see more info about the system (e.g. compilers)      (*) as reported by 'uname -p', except on Windows and Mac OS X

Package 1167/2266HostnameOS / ArchINSTALLBUILDCHECKBUILD BIN
mbkmeans 1.18.0  (landing page)
Davide Risso
Snapshot Date: 2024-02-19 14:05:07 -0500 (Mon, 19 Feb 2024)
git_url: https://git.bioconductor.org/packages/mbkmeans
git_branch: RELEASE_3_18
git_last_commit: 276ec39
git_last_commit_date: 2023-10-24 11:12:38 -0500 (Tue, 24 Oct 2023)
nebbiolo2Linux (Ubuntu 22.04.3 LTS) / x86_64  OK    OK    OK  UNNEEDED, same version is already published
palomino4Windows Server 2022 Datacenter / x64  OK    OK    OK    OK  UNNEEDED, same version is already published
lconwaymacOS 12.7.1 Monterey / x86_64  OK    OK    OK    OK  UNNEEDED, same version is already published
kjohnson1macOS 13.6.1 Ventura / arm64see weekly results here

BUILD BIN results for mbkmeans on lconway


To the developers/maintainers of the mbkmeans package:
- Allow up to 24 hours (and sometimes 48 hours) for your latest push to git@git.bioconductor.org:packages/mbkmeans.git to reflect on this report. See Troubleshooting Build Report for more information.
- Use the following Renviron settings to reproduce errors and warnings.
- If 'R CMD check' started to fail recently on the Linux builder(s) over a missing dependency, add the missing dependency to 'Suggests:' in your DESCRIPTION file. See Renviron.bioc for more information.

raw results


Summary

Package: mbkmeans
Version: 1.18.0
Command: rm -rf mbkmeans.buildbin-libdir && mkdir mbkmeans.buildbin-libdir && /Users/biocbuild/BBS/utils/build-universal.sh mbkmeans_1.18.0.tar.gz /Library/Frameworks/R.framework/Resources/bin/R mbkmeans.buildbin-libdir
StartedAt: 2024-02-20 00:30:35 -0500 (Tue, 20 Feb 2024)
EndedAt: 2024-02-20 00:31:43 -0500 (Tue, 20 Feb 2024)
EllapsedTime: 68.1 seconds
RetCode: 0
Status:   OK  
PackageFile: mbkmeans_1.18.0.tgz
PackageFileSize: 441 KiB

Command output

##############################################################################
##############################################################################
###
### Running command:
###
###   rm -rf mbkmeans.buildbin-libdir && mkdir mbkmeans.buildbin-libdir && /Users/biocbuild/BBS/utils/build-universal.sh mbkmeans_1.18.0.tar.gz /Library/Frameworks/R.framework/Resources/bin/R mbkmeans.buildbin-libdir
###
##############################################################################
##############################################################################


>>>>>>> 
>>>>>>> INSTALLATION WITH 'R CMD INSTALL --preclean --no-multiarch --library=mbkmeans.buildbin-libdir mbkmeans_1.18.0.tar.gz'
>>>>>>> 

* installing *source* package ‘mbkmeans’ ...
** using staged installation
** libs
using C++ compiler: ‘Apple clang version 14.0.0 (clang-1400.0.29.202)’
using C++11
using SDK: ‘MacOSX11.3.sdk’
clang++ -arch x86_64 -std=gnu++11 -I"/Library/Frameworks/R.framework/Resources/include" -DNDEBUG  -I'/Library/Frameworks/R.framework/Versions/4.3-x86_64/Resources/library/Rcpp/include' -I'/Library/Frameworks/R.framework/Versions/4.3-x86_64/Resources/library/RcppArmadillo/include' -I'/Library/Frameworks/R.framework/Versions/4.3-x86_64/Resources/library/Rhdf5lib/include' -I'/Library/Frameworks/R.framework/Versions/4.3-x86_64/Resources/library/beachmat/include' -I'/Library/Frameworks/R.framework/Versions/4.3-x86_64/Resources/library/ClusterR/include' -I/opt/R/x86_64/include    -fPIC  -falign-functions=64 -Wall -g -O2  -c RcppExports.cpp -o RcppExports.o
clang++ -arch x86_64 -std=gnu++11 -I"/Library/Frameworks/R.framework/Resources/include" -DNDEBUG  -I'/Library/Frameworks/R.framework/Versions/4.3-x86_64/Resources/library/Rcpp/include' -I'/Library/Frameworks/R.framework/Versions/4.3-x86_64/Resources/library/RcppArmadillo/include' -I'/Library/Frameworks/R.framework/Versions/4.3-x86_64/Resources/library/Rhdf5lib/include' -I'/Library/Frameworks/R.framework/Versions/4.3-x86_64/Resources/library/beachmat/include' -I'/Library/Frameworks/R.framework/Versions/4.3-x86_64/Resources/library/ClusterR/include' -I/opt/R/x86_64/include    -fPIC  -falign-functions=64 -Wall -g -O2  -c mini_batch.cpp -o mini_batch.o
In file included from mini_batch.cpp:2:
In file included from /Library/Frameworks/R.framework/Versions/4.3-x86_64/Resources/library/RcppArmadillo/include/RcppArmadillo.h:29:
In file included from /Library/Frameworks/R.framework/Versions/4.3-x86_64/Resources/library/RcppArmadillo/include/RcppArmadillo/interface/RcppArmadilloForward.h:57:
In file included from /Library/Frameworks/R.framework/Versions/4.3-x86_64/Resources/library/RcppArmadillo/include/armadillo:26:
/Library/Frameworks/R.framework/Versions/4.3-x86_64/Resources/library/RcppArmadillo/include/armadillo_bits/config.hpp:321:11: warning: INFO: support for ARMA_DONT_PRINT_ERRORS option has been removed [-W#pragma-messages]
  #pragma message ("INFO: support for ARMA_DONT_PRINT_ERRORS option has been removed")
          ^
/Library/Frameworks/R.framework/Versions/4.3-x86_64/Resources/library/RcppArmadillo/include/armadillo_bits/config.hpp:326:13: warning: INFO: suggest to use ARMA_WARN_LEVEL option instead [-W#pragma-messages]
    #pragma message ("INFO: suggest to use ARMA_WARN_LEVEL option instead")
            ^
/Library/Frameworks/R.framework/Versions/4.3-x86_64/Resources/library/RcppArmadillo/include/armadillo_bits/config.hpp:329:11: warning: INFO: see the documentation for details [-W#pragma-messages]
  #pragma message ("INFO: see the documentation for details")
          ^
In file included from mini_batch.cpp:3:
/Library/Frameworks/R.framework/Versions/4.3-x86_64/Resources/library/ClusterR/include/ClusterRHeader.h:862:14: warning: variable 'status' set but not used [-Wunused-but-set-variable]
        bool status;
             ^
/Library/Frameworks/R.framework/Versions/4.3-x86_64/Resources/library/ClusterR/include/ClusterRHeader.h:1530:14: warning: variable 'status' set but not used [-Wunused-but-set-variable]
        bool status;
             ^
5 warnings generated.
clang++ -arch x86_64 -std=gnu++11 -dynamiclib -Wl,-headerpad_max_install_names -undefined dynamic_lookup -L/Library/Frameworks/R.framework/Resources/lib -L/opt/R/x86_64/lib -o mbkmeans.so RcppExports.o mini_batch.o -F/Library/Frameworks/R.framework/.. -framework R -Wl,-framework -Wl,CoreFoundation
installing to /Users/biocbuild/bbs-3.18-bioc/meat/mbkmeans.buildbin-libdir/00LOCK-mbkmeans/00new/mbkmeans/libs
** R
** inst
** byte-compile and prepare package for lazy loading
** help
*** installing help indices
** building package indices
** installing vignettes
** testing if installed package can be loaded from temporary location
** checking absolute paths in shared objects and dynamic libraries
** testing if installed package can be loaded from final location
** testing if installed package keeps a record of temporary installation path
* DONE (mbkmeans)


>>>>>>> 
>>>>>>> FIXING PATHS TO DYNAMIC LIBRARIES FOR mbkmeans.buildbin-libdir/mbkmeans/libs/mbkmeans.so
>>>>>>> 

>>>>>>> Paths before fix:
mbkmeans.buildbin-libdir/mbkmeans/libs/mbkmeans.so:
	mbkmeans.so (compatibility version 0.0.0, current version 0.0.0)
	/Library/Frameworks/R.framework/Versions/4.3-x86_64/Resources/lib/libR.dylib (compatibility version 4.3.0, current version 4.3.2)
	/System/Library/Frameworks/CoreFoundation.framework/Versions/A/CoreFoundation (compatibility version 150.0.0, current version 1775.118.101)
	/usr/lib/libc++.1.dylib (compatibility version 1.0.0, current version 905.6.0)
	/usr/lib/libSystem.B.dylib (compatibility version 1.0.0, current version 1292.100.5)

>>>>>>> Fix with install_name_tool:
install_name_tool -change "/usr/local/lib/libgcc_s.1.1.dylib" "/Library/Frameworks/R.framework/Versions/4.3-x86_64/Resources/lib/libgcc_s.1.1.dylib" "mbkmeans.buildbin-libdir/mbkmeans/libs/mbkmeans.so"
install_name_tool -change "/usr/local/lib/libgfortran.5.dylib" "/Library/Frameworks/R.framework/Versions/4.3-x86_64/Resources/lib/libgfortran.5.dylib" "mbkmeans.buildbin-libdir/mbkmeans/libs/mbkmeans.so"
install_name_tool -change "/usr/local/lib/libquadmath.0.dylib" "/Library/Frameworks/R.framework/Versions/4.3-x86_64/Resources/lib/libquadmath.0.dylib" "mbkmeans.buildbin-libdir/mbkmeans/libs/mbkmeans.so"

>>>>>>> Paths after fix:
mbkmeans.buildbin-libdir/mbkmeans/libs/mbkmeans.so:
	mbkmeans.so (compatibility version 0.0.0, current version 0.0.0)
	/Library/Frameworks/R.framework/Versions/4.3-x86_64/Resources/lib/libR.dylib (compatibility version 4.3.0, current version 4.3.2)
	/System/Library/Frameworks/CoreFoundation.framework/Versions/A/CoreFoundation (compatibility version 150.0.0, current version 1775.118.101)
	/usr/lib/libc++.1.dylib (compatibility version 1.0.0, current version 905.6.0)
	/usr/lib/libSystem.B.dylib (compatibility version 1.0.0, current version 1292.100.5)