Back to Multiple platform build/check report for BioC 3.18:   simplified   long
ABCDEFGHIJKL[M]NOPQRSTUVWXYZ

This page was generated on 2024-02-22 11:37:53 -0500 (Thu, 22 Feb 2024).

HostnameOSArch (*)R versionInstalled pkgs
nebbiolo2Linux (Ubuntu 22.04.3 LTS)x86_644.3.2 Patched (2023-11-13 r85521) -- "Eye Holes" 4691
palomino4Windows Server 2022 Datacenterx644.3.2 (2023-10-31 ucrt) -- "Eye Holes" 4444
lconwaymacOS 12.7.1 Montereyx86_644.3.2 Patched (2023-11-01 r85457) -- "Eye Holes" 4465
Click on any hostname to see more info about the system (e.g. compilers)      (*) as reported by 'uname -p', except on Windows and Mac OS X

Package 1140/2266HostnameOS / ArchINSTALLBUILDCHECKBUILD BIN
makecdfenv 1.78.0  (landing page)
James W. MacDonald
Snapshot Date: 2024-02-21 14:05:05 -0500 (Wed, 21 Feb 2024)
git_url: https://git.bioconductor.org/packages/makecdfenv
git_branch: RELEASE_3_18
git_last_commit: da98c62
git_last_commit_date: 2023-10-24 09:31:59 -0500 (Tue, 24 Oct 2023)
nebbiolo2Linux (Ubuntu 22.04.3 LTS) / x86_64  OK    OK    WARNINGS  UNNEEDED, same version is already published
palomino4Windows Server 2022 Datacenter / x64  OK    OK    OK    OK  UNNEEDED, same version is already published
lconwaymacOS 12.7.1 Monterey / x86_64  OK    OK    OK    OK  UNNEEDED, same version is already published
kjohnson1macOS 13.6.1 Ventura / arm64see weekly results here

BUILD BIN results for makecdfenv on lconway


To the developers/maintainers of the makecdfenv package:
- Allow up to 24 hours (and sometimes 48 hours) for your latest push to git@git.bioconductor.org:packages/makecdfenv.git to reflect on this report. See Troubleshooting Build Report for more information.
- Use the following Renviron settings to reproduce errors and warnings.
- If 'R CMD check' started to fail recently on the Linux builder(s) over a missing dependency, add the missing dependency to 'Suggests:' in your DESCRIPTION file. See Renviron.bioc for more information.

raw results


Summary

Package: makecdfenv
Version: 1.78.0
Command: rm -rf makecdfenv.buildbin-libdir && mkdir makecdfenv.buildbin-libdir && /Users/biocbuild/BBS/utils/build-universal.sh makecdfenv_1.78.0.tar.gz /Library/Frameworks/R.framework/Resources/bin/R makecdfenv.buildbin-libdir
StartedAt: 2024-02-22 00:24:49 -0500 (Thu, 22 Feb 2024)
EndedAt: 2024-02-22 00:25:06 -0500 (Thu, 22 Feb 2024)
EllapsedTime: 17.2 seconds
RetCode: 0
Status:   OK  
PackageFile: makecdfenv_1.78.0.tgz
PackageFileSize: 3.417 MiB

Command output

##############################################################################
##############################################################################
###
### Running command:
###
###   rm -rf makecdfenv.buildbin-libdir && mkdir makecdfenv.buildbin-libdir && /Users/biocbuild/BBS/utils/build-universal.sh makecdfenv_1.78.0.tar.gz /Library/Frameworks/R.framework/Resources/bin/R makecdfenv.buildbin-libdir
###
##############################################################################
##############################################################################


>>>>>>> 
>>>>>>> INSTALLATION WITH 'R CMD INSTALL --preclean --no-multiarch --library=makecdfenv.buildbin-libdir makecdfenv_1.78.0.tar.gz'
>>>>>>> 

* installing *source* package ‘makecdfenv’ ...
** using staged installation
creating cache ./config.cache
checking how to run the C preprocessor... clang -arch x86_64 -E
checking for main in -lz... yes
checking for zlib.h... yes
checking if zlib version >= 1.1.3... yes
updating cache ./config.cache
creating ./config.status
creating src/Makevars
** libs
using C compiler: ‘Apple clang version 14.0.0 (clang-1400.0.29.202)’
using SDK: ‘MacOSX11.3.sdk’
clang -arch x86_64 -I"/Library/Frameworks/R.framework/Resources/include" -DNDEBUG -DHAVE_ZLIB=1   -I/opt/R/x86_64/include   -falign-functions=64 -Wall -g -O2 -fPIC  -falign-functions=64 -Wall -g -O2  -c read_cdffile.c -o read_cdffile.o
read_cdffile.c:576:7: warning: variable 'typeQC' set but not used [-Wunused-but-set-variable]
  int typeQC;
      ^
1 warning generated.
clang -arch x86_64 -dynamiclib -Wl,-headerpad_max_install_names -undefined dynamic_lookup -L/Library/Frameworks/R.framework/Resources/lib -L/opt/R/x86_64/lib -o makecdfenv.so read_cdffile.o -lz -F/Library/Frameworks/R.framework/.. -framework R -Wl,-framework -Wl,CoreFoundation
installing to /Users/biocbuild/bbs-3.18-bioc/meat/makecdfenv.buildbin-libdir/00LOCK-makecdfenv/00new/makecdfenv/libs
** R
** inst
** byte-compile and prepare package for lazy loading
** help
*** installing help indices
** building package indices
** installing vignettes
** testing if installed package can be loaded from temporary location
** checking absolute paths in shared objects and dynamic libraries
** testing if installed package can be loaded from final location
** testing if installed package keeps a record of temporary installation path
* DONE (makecdfenv)


>>>>>>> 
>>>>>>> FIXING PATHS TO DYNAMIC LIBRARIES FOR makecdfenv.buildbin-libdir/makecdfenv/libs/makecdfenv.so
>>>>>>> 

>>>>>>> Paths before fix:
makecdfenv.buildbin-libdir/makecdfenv/libs/makecdfenv.so:
	makecdfenv.so (compatibility version 0.0.0, current version 0.0.0)
	/usr/lib/libz.1.dylib (compatibility version 1.0.0, current version 1.2.11)
	/Library/Frameworks/R.framework/Versions/4.3-x86_64/Resources/lib/libR.dylib (compatibility version 4.3.0, current version 4.3.2)
	/System/Library/Frameworks/CoreFoundation.framework/Versions/A/CoreFoundation (compatibility version 150.0.0, current version 1775.118.101)
	/usr/lib/libSystem.B.dylib (compatibility version 1.0.0, current version 1292.100.5)

>>>>>>> Fix with install_name_tool:
install_name_tool -change "/usr/local/lib/libgcc_s.1.1.dylib" "/Library/Frameworks/R.framework/Versions/4.3-x86_64/Resources/lib/libgcc_s.1.1.dylib" "makecdfenv.buildbin-libdir/makecdfenv/libs/makecdfenv.so"
install_name_tool -change "/usr/local/lib/libgfortran.5.dylib" "/Library/Frameworks/R.framework/Versions/4.3-x86_64/Resources/lib/libgfortran.5.dylib" "makecdfenv.buildbin-libdir/makecdfenv/libs/makecdfenv.so"
install_name_tool -change "/usr/local/lib/libquadmath.0.dylib" "/Library/Frameworks/R.framework/Versions/4.3-x86_64/Resources/lib/libquadmath.0.dylib" "makecdfenv.buildbin-libdir/makecdfenv/libs/makecdfenv.so"

>>>>>>> Paths after fix:
makecdfenv.buildbin-libdir/makecdfenv/libs/makecdfenv.so:
	makecdfenv.so (compatibility version 0.0.0, current version 0.0.0)
	/usr/lib/libz.1.dylib (compatibility version 1.0.0, current version 1.2.11)
	/Library/Frameworks/R.framework/Versions/4.3-x86_64/Resources/lib/libR.dylib (compatibility version 4.3.0, current version 4.3.2)
	/System/Library/Frameworks/CoreFoundation.framework/Versions/A/CoreFoundation (compatibility version 150.0.0, current version 1775.118.101)
	/usr/lib/libSystem.B.dylib (compatibility version 1.0.0, current version 1292.100.5)