Index of /checkResults/release/bioc-LATEST/lisaClust/raw-results
Name
Last modified
Size
Description
Parent Directory
-
merida1/
05-Mar-2024 01:39
-
palomino3/
30-Apr-2024 00:38
-
kunpeng2/
30-Apr-2024 00:40
-
info.dcf
02-May-2024 00:35
283
nebbiolo1/
02-May-2024 00:35
-
lconway/
02-May-2024 00:36
-