Index of /checkResults/release/bioc-LATEST/lisaClust/raw-results/nebbiolo1

[ICO]NameLast modifiedSizeDescription

[DIR]Parent Directory  -  
[TXT]buildsrc-out.txt15-Jun-2024 03:37 814  
[   ]buildsrc-summary.dcf15-Jun-2024 03:37 423  
[TXT]checksrc-out.txt15-Jun-2024 03:37 4.6K 
[   ]checksrc-summary.dcf15-Jun-2024 03:37 422  
[TXT]install-out.txt15-Jun-2024 03:37 958  
[   ]install-summary.dcf15-Jun-2024 03:37 263