Index of /checkResults/release/bioc-LATEST/lisaClust/raw-results/lconway

[ICO]NameLast modifiedSizeDescription

[DIR]Parent Directory  -  
[TXT]buildbin-out.txt18-May-2024 00:38 1.2K 
[   ]buildbin-summary.dcf18-May-2024 00:38 542  
[TXT]buildsrc-out.txt18-May-2024 00:38 824  
[   ]buildsrc-summary.dcf18-May-2024 00:38 433  
[TXT]checksrc-out.txt18-May-2024 00:38 4.6K 
[   ]checksrc-summary.dcf18-May-2024 00:38 452  
[TXT]install-out.txt18-May-2024 00:38 1.0K 
[   ]install-summary.dcf18-May-2024 00:38 273