Back to Multiple platform build/check report for BioC 3.12
ABCDEFGHIJK[L]MNOPQRSTUVWXYZ

Multiple platform build/check report for BioC 3.12

Results for lfa

This page was generated on 2021-01-25 11:47:41 -0500 (Mon, 25 Jan 2021).

Package 954/1974HostnameOS / ArchINSTALLBUILDCHECKBUILD BIN
lfa 1.20.0
Wei Hao , John D. Storey
Snapshot Date: 2021-01-24 14:40:16 -0500 (Sun, 24 Jan 2021)
URL: https://git.bioconductor.org/packages/lfa
Branch: RELEASE_3_12
Last Commit: cea356f
Last Changed Date: 2020-10-27 11:08:34 -0500 (Tue, 27 Oct 2020)
malbec1 Linux (Ubuntu 18.04.5 LTS) / x86_64  OK  OK  WARNINGS UNNEEDED, same version exists in internal repository
nebbiolo1 Linux (Ubuntu 20.04.1 LTS) / x86_64  OK  OK  WARNINGS 
tokay1 Windows Server 2012 R2 Standard / x64  OK  OK  WARNINGS  OK UNNEEDED, same version exists in internal repository
merida1 macOS 10.14.6 Mojave / x86_64  OK  OK  WARNINGS  OK UNNEEDED, same version exists in internal repository