Back to Multiple platform build/check report for BioC 3.16:   simplified   long
ABCDEFGH[I]JKLMNOPQRSTUVWXYZ

This page was generated on 2023-03-24 11:06:40 -0400 (Fri, 24 Mar 2023).

HostnameOSArch (*)R versionInstalled pkgs
nebbiolo2Linux (Ubuntu 20.04.5 LTS)x86_644.2.3 (2023-03-15) -- "Shortstop Beagle" 4286
palomino4Windows Server 2022 Datacenterx644.2.3 (2023-03-15 ucrt) -- "Shortstop Beagle" 4276
lconwaymacOS 12.5.1 Montereyx86_644.2.3 (2023-03-15) -- "Shortstop Beagle" 4303
Click on any hostname to see more info about the system (e.g. compilers)      (*) as reported by 'uname -p', except on Windows and Mac OS X

BUILD results for infercnv on lconway


To the developers/maintainers of the infercnv package:
- Please allow up to 24 hours (and sometimes 48 hours) for your latest push to git@git.bioconductor.org:packages/infercnv.git to
reflect on this report. See How and When does the builder pull? When will my changes propagate? for more information.
- Make sure to use the following settings in order to reproduce any error or warning you see on this page.

raw results

Package 971/2183HostnameOS / ArchINSTALLBUILDCHECKBUILD BIN
infercnv 1.14.2  (landing page)
Christophe Georgescu
Snapshot Date: 2023-03-22 14:00:04 -0400 (Wed, 22 Mar 2023)
git_url: https://git.bioconductor.org/packages/infercnv
git_branch: RELEASE_3_16
git_last_commit: 1cf5a95
git_last_commit_date: 2023-03-08 11:11:29 -0400 (Wed, 08 Mar 2023)
nebbiolo2Linux (Ubuntu 20.04.5 LTS) / x86_64  OK    OK    OK  UNNEEDED, same version is already published
palomino4Windows Server 2022 Datacenter / x64  OK    OK    OK    OK  UNNEEDED, same version is already published
lconwaymacOS 12.5.1 Monterey / x86_64  OK    OK    OK    OK  UNNEEDED, same version is already published

Summary

Package: infercnv
Version: 1.14.2
Command: /Library/Frameworks/R.framework/Resources/bin/R CMD build --keep-empty-dirs --no-resave-data infercnv
StartedAt: 2023-03-22 16:56:24 -0400 (Wed, 22 Mar 2023)
EndedAt: 2023-03-22 16:58:09 -0400 (Wed, 22 Mar 2023)
EllapsedTime: 105.5 seconds
RetCode: 0
Status:   OK  
PackageFile: infercnv_1.14.2.tar.gz
PackageFileSize: 3.934 MiB

Command output

##############################################################################
##############################################################################
###
### Running command:
###
###   /Library/Frameworks/R.framework/Resources/bin/R CMD build --keep-empty-dirs --no-resave-data infercnv
###
##############################################################################
##############################################################################


* checking for file ‘infercnv/DESCRIPTION’ ... OK
* preparing ‘infercnv’:
* checking DESCRIPTION meta-information ... OK
* installing the package to build vignettes
* creating vignettes ... OK
* checking for LF line-endings in source and make files and shell scripts
* checking for empty or unneeded directories
WARNING: directory ‘infercnv/WDL’ is empty
* building ‘infercnv_1.14.2.tar.gz’