Index of /checkResults/release/bioc-LATEST/geNetClassifier/raw-results

[ICO]NameLast modifiedSizeDescription

[DIR]Parent Directory  -  
[   ]info.dcf09-Aug-2022 02:20 279  
[DIR]merida1/09-Aug-2022 02:20 -  
[DIR]nebbiolo1/09-Aug-2022 02:19 -  
[DIR]palomino3/04-Aug-2022 02:21 -  
[DIR]riesling1/19-Mar-2022 00:07 -