Name | Last modified | Size | Description | |
---|---|---|---|---|
Parent Directory | - | |||
buildsrc-out.txt | 04-May-2024 00:40 | 912 | ||
buildsrc-summary.dcf | 04-May-2024 00:40 | 452 | ||
checksrc-out.txt | 04-May-2024 00:40 | 5.4K | ||
checksrc-summary.dcf | 04-May-2024 00:40 | 482 | ||
install-out.txt | 04-May-2024 00:40 | 1.0K | ||
install-summary.dcf | 04-May-2024 00:40 | 286 | ||