![]() | Name | Last modified | Size | Description |
---|---|---|---|---|
![]() | Parent Directory | - | ||
![]() | buildbin-out.txt | 26-Sep-2023 00:37 | 1.2K | |
![]() | buildbin-summary.dcf | 26-Sep-2023 00:37 | 578 | |
![]() | buildsrc-out.txt | 26-Sep-2023 00:37 | 911 | |
![]() | buildsrc-summary.dcf | 26-Sep-2023 00:37 | 451 | |
![]() | checksrc-out.txt | 26-Sep-2023 00:37 | 3.6K | |
![]() | checksrc-summary.dcf | 26-Sep-2023 00:37 | 476 | |
![]() | install-out.txt | 26-Sep-2023 00:37 | 1.0K | |
![]() | install-summary.dcf | 26-Sep-2023 00:37 | 285 | |