Back to Multiple platform build/check report for BioC 3.19:   simplified   long
ABCDEFGHIJKLMN[O]PQRSTUVWXYZ

This page was generated on 2024-05-28 11:34:46 -0400 (Tue, 28 May 2024).

HostnameOSArch (*)R versionInstalled pkgs
nebbiolo1Linux (Ubuntu 22.04.3 LTS)x86_644.4.0 (2024-04-24) -- "Puppy Cup" 4752
lconwaymacOS 12.7.1 Montereyx86_644.4.0 (2024-04-24) -- "Puppy Cup" 4517
Click on any hostname to see more info about the system (e.g. compilers)      (*) as reported by 'uname -p', except on Windows and Mac OS X

All results for package openCyto


To the developers/maintainers of the openCyto package:
- Allow up to 24 hours (and sometimes 48 hours) for your latest push to git@git.bioconductor.org:packages/openCyto.git to reflect on this report. See Troubleshooting Build Report for more information.
- Use the following Renviron settings to reproduce errors and warnings.
- If 'R CMD check' started to fail recently on the Linux builder(s) over a missing dependency, add the missing dependency to 'Suggests:' in your DESCRIPTION file. See Renviron.bioc for more information.

raw results

Package 1476/2300HostnameOS / ArchINSTALLBUILDCHECKBUILD BIN
openCyto 2.16.1  (landing page)
Mike Jiang
Snapshot Date: 2024-05-27 14:00:08 -0400 (Mon, 27 May 2024)
git_url: https://git.bioconductor.org/packages/openCyto
git_branch: RELEASE_3_19
git_last_commit: 4df4f65
git_last_commit_date: 2024-05-14 15:19:58 -0400 (Tue, 14 May 2024)
nebbiolo1Linux (Ubuntu 22.04.3 LTS) / x86_64  OK    OK    WARNINGS  UNNEEDED, same version is already published
lconwaymacOS 12.7.1 Monterey / x86_64  OK    OK    WARNINGS    OK  UNNEEDED, same version is already published
kjohnson3macOS 13.6.5 Ventura / arm64see weekly results here

Results for Bioconductor software packages that depend directly on package openCyto

QUICK STATSOS / ArchINSTALLBUILDCHECKBUILD BIN
nebbiolo1Linux (Ubuntu 22.04.3 LTS) / x86_64
001
001
0010
lconwaymacOS 12.7.1 Monterey / x86_64
001
001
0010
001
Package 1/1HostnameOS / ArchINSTALLBUILDCHECKBUILD BIN
CytoML 2.16.0  (landing page)
Mike Jiang
git_last_commit: 95dbca4
git_last_commit_date: 2024-04-30 10:52:05 -0400
nebbiolo1Linux (Ubuntu 22.04.3 LTS) / x86_64  OK    OK    WARNINGS  UNNEEDED, same version is already published
lconwaymacOS 12.7.1 Monterey / x86_64  OK    OK    WARNINGS    OK  UNNEEDED, same version is already published
kjohnson3macOS 13.6.5 Ventura / arm64see weekly results here