Back to Multiple platform build/check report for BioC 3.16
ABCDE[F]GHIJKLMNOPQRSTUVWXYZ

This page was generated on 2022-12-01 11:04:43 -0500 (Thu, 01 Dec 2022).

HostnameOSArch (*)R versionInstalled pkgs
nebbiolo2Linux (Ubuntu 20.04.5 LTS)x86_644.2.2 (2022-10-31) -- "Innocent and Trusting" 4503
palomino4Windows Server 2022 Datacenterx644.2.2 (2022-10-31 ucrt) -- "Innocent and Trusting" 4278
lconwaymacOS 12.5.1 Montereyx86_644.2.2 (2022-10-31) -- "Innocent and Trusting" 4309
Click on any hostname to see more info about the system (e.g. compilers)      (*) as reported by 'uname -p', except on Windows and Mac OS X

All results for package flowDensity


To the developers/maintainers of the flowDensity package:
- Please allow up to 24 hours (and sometimes 48 hours) for your latest push to git@git.bioconductor.org:packages/flowDensity.git to
reflect on this report. See How and When does the builder pull? When will my changes propagate? for more information.
- Make sure to use the following settings in order to reproduce any error or warning you see on this page.

raw results

Package 694/2183HostnameOS / ArchINSTALLBUILDCHECKBUILD BIN
flowDensity 1.32.0  (landing page)
Mehrnoush Malek
Snapshot Date: 2022-11-30 14:00:04 -0500 (Wed, 30 Nov 2022)
git_url: https://git.bioconductor.org/packages/flowDensity
git_branch: RELEASE_3_16
git_last_commit: 74d191c
git_last_commit_date: 2022-11-01 11:09:53 -0500 (Tue, 01 Nov 2022)
nebbiolo2Linux (Ubuntu 20.04.5 LTS) / x86_64  OK    OK    WARNINGS  UNNEEDED, same version is already published
palomino4Windows Server 2022 Datacenter / x64  OK    OK    WARNINGS    OK  UNNEEDED, same version is already published
lconwaymacOS 12.5.1 Monterey / x86_64  OK    OK    WARNINGS    OK  UNNEEDED, same version is already published

Results for Bioconductor software packages that depend directly on package flowDensity

QUICK STATSOS / ArchINSTALLBUILDCHECKBUILD BIN
nebbiolo2Linux (Ubuntu 20.04.5 LTS) / x86_64
003
003
0003
palomino4Windows Server 2022 Datacenter / x64
003
003
0003
003
lconwaymacOS 12.5.1 Monterey / x86_64
003
003
0003
003
Package 1/3HostnameOS / ArchINSTALLBUILDCHECKBUILD BIN
cyanoFilter 1.6.0  (landing page)
Oluwafemi Olusoji
git_last_commit: 58c5eae
git_last_commit_date: 2022-11-01 11:24:33 -0500
nebbiolo2Linux (Ubuntu 20.04.5 LTS) / x86_64  OK    OK    OK  UNNEEDED, same version is already published
palomino4Windows Server 2022 Datacenter / x64  OK    OK    OK    OK  UNNEEDED, same version is already published
lconwaymacOS 12.5.1 Monterey / x86_64  OK    OK    OK    OK  UNNEEDED, same version is already published
Package 2/3HostnameOS / ArchINSTALLBUILDCHECKBUILD BIN
ddPCRclust 1.18.0  (landing page)
Benedikt G. Brink
git_last_commit: 8205654
git_last_commit_date: 2022-11-01 11:17:13 -0500
nebbiolo2Linux (Ubuntu 20.04.5 LTS) / x86_64  OK    OK    OK  UNNEEDED, same version is already published
palomino4Windows Server 2022 Datacenter / x64  OK    OK    OK    OK  UNNEEDED, same version is already published
lconwaymacOS 12.5.1 Monterey / x86_64  OK    OK    OK    OK  UNNEEDED, same version is already published
Package 3/3HostnameOS / ArchINSTALLBUILDCHECKBUILD BIN
flowCut 1.8.0  (landing page)
Justin Meskas
git_last_commit: c1e912c
git_last_commit_date: 2022-11-01 11:22:11 -0500
nebbiolo2Linux (Ubuntu 20.04.5 LTS) / x86_64  OK    OK    OK  UNNEEDED, same version is already published
palomino4Windows Server 2022 Datacenter / x64  OK    OK    OK    OK  UNNEEDED, same version is already published
lconwaymacOS 12.5.1 Monterey / x86_64  OK    OK    OK    OK  UNNEEDED, same version is already published