Back to Multiple platform build/check report for BioC 3.15 |
|
This page was generated on 2022-05-27 12:04:23 -0400 (Fri, 27 May 2022).
Hostname | OS | Arch (*) | R version | Installed pkgs |
---|---|---|---|---|
nebbiolo1 | Linux (Ubuntu 20.04.4 LTS) | x86_64 | 4.2.0 (2022-04-22) -- "Vigorous Calisthenics" | 4380 |
palomino3 | Windows Server 2022 Datacenter | x64 | 4.2.0 (2022-04-22 ucrt) -- "Vigorous Calisthenics" | 4156 |
merida1 | macOS 10.14.6 Mojave | x86_64 | 4.2.0 (2022-04-22) -- "Vigorous Calisthenics" | 4221 |
Click on any hostname to see more info about the system (e.g. compilers) (*) as reported by 'uname -p', except on Windows and Mac OS X |
To the developers/maintainers of the ddPCRclust package: - Please allow up to 24 hours (and sometimes 48 hours) for your latest push to git@git.bioconductor.org:packages/ddPCRclust.git to reflect on this report. See How and When does the builder pull? When will my changes propagate? for more information. - Make sure to use the following settings in order to reproduce any error or warning you see on this page. |
Package 476/2140 | Hostname | OS / Arch | INSTALL | BUILD | CHECK | BUILD BIN | ||||||||
ddPCRclust 1.16.0 (landing page) Benedikt G. Brink
| nebbiolo1 | Linux (Ubuntu 20.04.4 LTS) / x86_64 | OK | OK | OK | ![]() | ||||||||
palomino3 | Windows Server 2022 Datacenter / x64 | ERROR | ERROR | skipped | skipped | |||||||||
merida1 | macOS 10.14.6 Mojave / x86_64 | OK | OK | OK | OK | ![]() | ||||||||