Back to Multiple platform build/check report for BioC 3.12
ABCDE[F]GHIJKLMNOPQRSTUVWXYZ

CHECK report for flowCyBar on nebbiolo1

This page was generated on 2021-02-22 12:33:53 -0500 (Mon, 22 Feb 2021).

To the developers/maintainers of the flowCyBar package:
Please make sure to use the following settings in order to reproduce any error or warning you see on this page.
Package 619/1974HostnameOS / ArchINSTALLBUILDCHECKBUILD BIN
flowCyBar 1.26.0
Joachim Schumann
Snapshot Date: 2021-02-21 14:52:07 -0500 (Sun, 21 Feb 2021)
URL: https://git.bioconductor.org/packages/flowCyBar
Branch: RELEASE_3_12
Last Commit: b771c10
Last Changed Date: 2020-10-27 10:55:53 -0500 (Tue, 27 Oct 2020)
malbec1Linux (Ubuntu 18.04.5 LTS) / x86_64  OK    OK    OK  UNNEEDED, same version exists in internal repository
nebbiolo1Linux (Ubuntu 20.04.2 LTS) / x86_64  OK    OK    OK  
tokay1Windows Server 2012 R2 Standard / x64  OK    OK    OK    OK  UNNEEDED, same version exists in internal repository
merida1macOS 10.14.6 Mojave / x86_64  OK    OK    OK    OK  UNNEEDED, same version exists in internal repository

Summary

Package: flowCyBar
Version: 1.26.0
Command: /home/biocbuild/bbs-3.12-bioc/R/bin/R CMD check --install=check:flowCyBar.install-out.txt --library=/home/biocbuild/bbs-3.12-bioc/R/library --no-vignettes --timings flowCyBar_1.26.0.tar.gz
StartedAt: 2021-02-21 21:12:05 -0500 (Sun, 21 Feb 2021)
EndedAt: 2021-02-21 21:12:45 -0500 (Sun, 21 Feb 2021)
EllapsedTime: 40.2 seconds
RetCode: 0
Status:   OK  
CheckDir: flowCyBar.Rcheck
Warnings: 0

Command output

##############################################################################
##############################################################################
###
### Running command:
###
###   /home/biocbuild/bbs-3.12-bioc/R/bin/R CMD check --install=check:flowCyBar.install-out.txt --library=/home/biocbuild/bbs-3.12-bioc/R/library --no-vignettes --timings flowCyBar_1.26.0.tar.gz
###
##############################################################################
##############################################################################


* using log directory ‘/home/biocbuild/bbs-3.12-bioc/meat/flowCyBar.Rcheck’
* using R version 4.0.3 (2020-10-10)
* using platform: x86_64-pc-linux-gnu (64-bit)
* using session charset: UTF-8
* using option ‘--no-vignettes’
* checking for file ‘flowCyBar/DESCRIPTION’ ... OK
* checking extension type ... Package
* this is package ‘flowCyBar’ version ‘1.26.0’
* package encoding: UTF-8
* checking package namespace information ... OK
* checking package dependencies ... OK
* checking if this is a source package ... OK
* checking if there is a namespace ... OK
* checking for hidden files and directories ... OK
* checking for portable file names ... OK
* checking for sufficient/correct file permissions ... OK
* checking whether package ‘flowCyBar’ can be installed ... OK
* checking installed package size ... OK
* checking package directory ... OK
* checking ‘build’ directory ... OK
* checking DESCRIPTION meta-information ... NOTE
Malformed Description field: should contain one or more complete sentences.
* checking top-level files ... OK
* checking for left-over files ... OK
* checking index information ... OK
* checking package subdirectories ... OK
* checking R files for non-ASCII characters ... OK
* checking R files for syntax errors ... OK
* checking whether the package can be loaded ... OK
* checking whether the package can be loaded with stated dependencies ... OK
* checking whether the package can be unloaded cleanly ... OK
* checking whether the namespace can be loaded with stated dependencies ... OK
* checking whether the namespace can be unloaded cleanly ... OK
* checking dependencies in R code ... OK
* checking S3 generic/method consistency ... OK
* checking replacement functions ... OK
* checking foreign function calls ... OK
* checking R code for possible problems ... NOTE
correlation,data.frame : <anonymous>: no visible global function
  definition for ‘as.dist’
correlation,data.frame : est: no visible global function definition for
  ‘cor.test’
correlation,data.frame : pval: no visible global function definition
  for ‘cor.test’
correlation,matrix : <anonymous>: no visible global function definition
  for ‘as.dist’
correlation,matrix : est: no visible global function definition for
  ‘cor.test’
correlation,matrix : pval: no visible global function definition for
  ‘cor.test’
cybar_plot,data.frame-data.frame: no visible global function definition
  for ‘layout’
cybar_plot,data.frame-data.frame: no visible global function definition
  for ‘par’
cybar_plot,data.frame-data.frame: no visible global function definition
  for ‘boxplot’
cybar_plot,data.frame-matrix: no visible global function definition for
  ‘layout’
cybar_plot,data.frame-matrix: no visible global function definition for
  ‘par’
cybar_plot,data.frame-matrix: no visible global function definition for
  ‘boxplot’
cybar_plot,matrix-data.frame: no visible global function definition for
  ‘layout’
cybar_plot,matrix-data.frame: no visible global function definition for
  ‘par’
cybar_plot,matrix-data.frame: no visible global function definition for
  ‘boxplot’
cybar_plot,matrix-matrix: no visible global function definition for
  ‘layout’
cybar_plot,matrix-matrix: no visible global function definition for
  ‘par’
cybar_plot,matrix-matrix: no visible global function definition for
  ‘boxplot’
cybar_plot,missing-data.frame: no visible global function definition
  for ‘boxplot’
cybar_plot,missing-matrix: no visible global function definition for
  ‘boxplot’
nmds,data.frame: no visible global function definition for ‘text’
nmds,data.frame: no visible global function definition for ‘points’
nmds,data.frame: no visible global function definition for ‘legend’
nmds,matrix: no visible global function definition for ‘text’
nmds,matrix: no visible global function definition for ‘points’
nmds,matrix: no visible global function definition for ‘legend’
normalize,data.frame : <anonymous>: no visible global function
  definition for ‘head’
normalize,matrix : <anonymous>: no visible global function definition
  for ‘head’
Undefined global functions or variables:
  as.dist boxplot cor.test head layout legend par points text
Consider adding
  importFrom("graphics", "boxplot", "layout", "legend", "par", "points",
             "text")
  importFrom("stats", "as.dist", "cor.test")
  importFrom("utils", "head")
to your NAMESPACE file.
* checking Rd files ... OK
* checking Rd metadata ... OK
* checking Rd cross-references ... OK
* checking for missing documentation entries ... OK
* checking for code/documentation mismatches ... OK
* checking Rd \usage sections ... OK
* checking Rd contents ... OK
* checking for unstated dependencies in examples ... OK
* checking contents of ‘data’ directory ... OK
* checking data for non-ASCII characters ... OK
* checking data for ASCII and uncompressed saves ... OK
* checking files in ‘vignettes’ ... OK
* checking examples ... OK
* checking for unstated dependencies in vignettes ... OK
* checking package vignettes in ‘inst/doc’ ... OK
* checking running R code from vignettes ... SKIPPED
* checking re-building of vignette outputs ... SKIPPED
* checking PDF version of manual ... OK
* DONE

Status: 2 NOTEs
See
  ‘/home/biocbuild/bbs-3.12-bioc/meat/flowCyBar.Rcheck/00check.log’
for details.



Installation output

flowCyBar.Rcheck/00install.out

##############################################################################
##############################################################################
###
### Running command:
###
###   /home/biocbuild/bbs-3.12-bioc/R/bin/R CMD INSTALL flowCyBar
###
##############################################################################
##############################################################################


* installing to library ‘/home/biocbuild/bbs-3.12-bioc/R/library’
* installing *source* package ‘flowCyBar’ ...
files ‘build/vignette.rds’, ‘inst/doc/flowCyBar-manual.R’, ‘inst/doc/flowCyBar-manual.Rnw’, ‘inst/doc/flowCyBar-manual.bib’, ‘inst/doc/flowCyBar-manual.pdf’ are missing
files ‘DESCRIPTION’, ‘R/correlation.R’, ‘R/cybar_plot.R’, ‘R/nmds.R’, ‘R/normalize.R’, ‘man/correlation.Rd’, ‘man/cybar_plot.Rd’, ‘man/flowCyBar-package.Rd’, ‘man/nmds.Rd’, ‘man/normalize.Rd’, ‘vignettes/flowCyBar-manual.Rnw’ have the wrong MD5 checksums
** using staged installation
** R
** data
** byte-compile and prepare package for lazy loading
** help
*** installing help indices
** building package indices
** installing vignettes
** testing if installed package can be loaded from temporary location
** testing if installed package can be loaded from final location
** testing if installed package keeps a record of temporary installation path
* DONE (flowCyBar)

Tests output


Example timings

flowCyBar.Rcheck/flowCyBar-Ex.timings

nameusersystemelapsed
correlation1.5670.0251.591
cybar_plot0.1870.0000.186
nmds0.3750.0470.423
normalize0.0210.0070.030