Back to Multiple platform build/check report for BioC 3.19:   simplified   long
ABCD[E]FGHIJKLMNOPQRSTUVWXYZ

This page was generated on 2024-06-18 17:57 -0400 (Tue, 18 Jun 2024).

HostnameOSArch (*)R versionInstalled pkgs
nebbiolo1Linux (Ubuntu 22.04.3 LTS)x86_644.4.0 (2024-04-24) -- "Puppy Cup" 4758
palomino3Windows Server 2022 Datacenterx644.4.0 (2024-04-24 ucrt) -- "Puppy Cup" 4492
merida1macOS 12.7.4 Montereyx86_644.4.0 (2024-04-24) -- "Puppy Cup" 4464
kjohnson1macOS 13.6.6 Venturaarm644.4.0 (2024-04-24) -- "Puppy Cup" 4464
Click on any hostname to see more info about the system (e.g. compilers)      (*) as reported by 'uname -p', except on Windows and Mac OS X

Package 680/2300HostnameOS / ArchINSTALLBUILDCHECKBUILD BIN
escape 2.0.0  (landing page)
Nick Borcherding
Snapshot Date: 2024-06-16 14:00 -0400 (Sun, 16 Jun 2024)
git_url: https://git.bioconductor.org/packages/escape
git_branch: RELEASE_3_19
git_last_commit: d314a29
git_last_commit_date: 2024-04-30 11:25:33 -0400 (Tue, 30 Apr 2024)
nebbiolo1Linux (Ubuntu 22.04.3 LTS) / x86_64  OK    OK    OK  UNNEEDED, same version is already published
palomino3Windows Server 2022 Datacenter / x64  OK    OK    OK    OK  UNNEEDED, same version is already published
merida1macOS 12.7.4 Monterey / x86_64  OK    OK    OK    OK  UNNEEDED, same version is already published
kjohnson1macOS 13.6.6 Ventura / arm64  OK    OK    OK    OK  UNNEEDED, same version is already published


CHECK results for escape on nebbiolo1

To the developers/maintainers of the escape package:
- Allow up to 24 hours (and sometimes 48 hours) for your latest push to git@git.bioconductor.org:packages/escape.git to reflect on this report. See Troubleshooting Build Report for more information.
- Use the following Renviron settings to reproduce errors and warnings.
- If 'R CMD check' started to fail recently on the Linux builder(s) over a missing dependency, add the missing dependency to 'Suggests:' in your DESCRIPTION file. See Renviron.bioc for more information.

raw results


Summary

Package: escape
Version: 2.0.0
Command: /home/biocbuild/bbs-3.19-bioc/R/bin/R CMD check --install=check:escape.install-out.txt --library=/home/biocbuild/bbs-3.19-bioc/R/site-library --timings escape_2.0.0.tar.gz
StartedAt: 2024-06-16 23:02:47 -0400 (Sun, 16 Jun 2024)
EndedAt: 2024-06-16 23:10:22 -0400 (Sun, 16 Jun 2024)
EllapsedTime: 455.0 seconds
RetCode: 0
Status:   OK  
CheckDir: escape.Rcheck
Warnings: 0

Command output

##############################################################################
##############################################################################
###
### Running command:
###
###   /home/biocbuild/bbs-3.19-bioc/R/bin/R CMD check --install=check:escape.install-out.txt --library=/home/biocbuild/bbs-3.19-bioc/R/site-library --timings escape_2.0.0.tar.gz
###
##############################################################################
##############################################################################


* using log directory ‘/home/biocbuild/bbs-3.19-bioc/meat/escape.Rcheck’
* using R version 4.4.0 (2024-04-24)
* using platform: x86_64-pc-linux-gnu
* R was compiled by
    gcc (Ubuntu 11.4.0-1ubuntu1~22.04) 11.4.0
    GNU Fortran (Ubuntu 11.4.0-1ubuntu1~22.04) 11.4.0
* running under: Ubuntu 22.04.4 LTS
* using session charset: UTF-8
* checking for file ‘escape/DESCRIPTION’ ... OK
* this is package ‘escape’ version ‘2.0.0’
* package encoding: UTF-8
* checking package namespace information ... OK
* checking package dependencies ... OK
* checking if this is a source package ... OK
* checking if there is a namespace ... OK
* checking for hidden files and directories ... OK
* checking for portable file names ... OK
* checking for sufficient/correct file permissions ... OK
* checking whether package ‘escape’ can be installed ... OK
* checking installed package size ... OK
* checking package directory ... OK
* checking ‘build’ directory ... OK
* checking DESCRIPTION meta-information ... NOTE
License stub is invalid DCF.
* checking top-level files ... OK
* checking for left-over files ... OK
* checking index information ... OK
* checking package subdirectories ... OK
* checking code files for non-ASCII characters ... OK
* checking R files for syntax errors ... OK
* checking whether the package can be loaded ... OK
* checking whether the package can be loaded with stated dependencies ... OK
* checking whether the package can be unloaded cleanly ... OK
* checking whether the namespace can be loaded with stated dependencies ... OK
* checking whether the namespace can be unloaded cleanly ... OK
* checking loading without being on the library search path ... OK
* checking whether startup messages can be suppressed ... OK
* checking dependencies in R code ... OK
* checking S3 generic/method consistency ... OK
* checking replacement functions ... OK
* checking foreign function calls ... OK
* checking R code for possible problems ... OK
* checking Rd files ... OK
* checking Rd metadata ... OK
* checking Rd cross-references ... OK
* checking for missing documentation entries ... OK
* checking for code/documentation mismatches ... OK
* checking Rd \usage sections ... OK
* checking Rd contents ... OK
* checking for unstated dependencies in examples ... OK
* checking contents of ‘data’ directory ... OK
* checking data for non-ASCII characters ... OK
* checking data for ASCII and uncompressed saves ... OK
* checking files in ‘vignettes’ ... OK
* checking examples ... OK
* checking for unstated dependencies in ‘tests’ ... OK
* checking tests ...
  Running ‘spelling.R’
  Running ‘testthat.R’
 OK
* checking for unstated dependencies in vignettes ... OK
* checking package vignettes ... OK
* checking re-building of vignette outputs ... OK
* checking PDF version of manual ... OK
* DONE

Status: 1 NOTE
See
  ‘/home/biocbuild/bbs-3.19-bioc/meat/escape.Rcheck/00check.log’
for details.


Installation output

escape.Rcheck/00install.out

##############################################################################
##############################################################################
###
### Running command:
###
###   /home/biocbuild/bbs-3.19-bioc/R/bin/R CMD INSTALL escape
###
##############################################################################
##############################################################################


* installing to library ‘/home/biocbuild/bbs-3.19-bioc/R/site-library’
* installing *source* package ‘escape’ ...
** using staged installation
** R
** data
** inst
** byte-compile and prepare package for lazy loading
** help
*** installing help indices
** building package indices
** installing vignettes
** testing if installed package can be loaded from temporary location
** testing if installed package can be loaded from final location
** testing if installed package keeps a record of temporary installation path
* DONE (escape)

Tests output

escape.Rcheck/tests/spelling.Rout


R version 4.4.0 (2024-04-24) -- "Puppy Cup"
Copyright (C) 2024 The R Foundation for Statistical Computing
Platform: x86_64-pc-linux-gnu

R is free software and comes with ABSOLUTELY NO WARRANTY.
You are welcome to redistribute it under certain conditions.
Type 'license()' or 'licence()' for distribution details.

R is a collaborative project with many contributors.
Type 'contributors()' for more information and
'citation()' on how to cite R or R packages in publications.

Type 'demo()' for some demos, 'help()' for on-line help, or
'help.start()' for an HTML browser interface to help.
Type 'q()' to quit R.

> if(requireNamespace('spelling', quietly = TRUE))
+   spelling::spell_check_test(vignettes = TRUE, error = FALSE,
+                              skip_on_cran = TRUE)
NULL
> 
> proc.time()
   user  system elapsed 
  0.152   0.039   0.180 

escape.Rcheck/tests/testthat.Rout


R version 4.4.0 (2024-04-24) -- "Puppy Cup"
Copyright (C) 2024 The R Foundation for Statistical Computing
Platform: x86_64-pc-linux-gnu

R is free software and comes with ABSOLUTELY NO WARRANTY.
You are welcome to redistribute it under certain conditions.
Type 'license()' or 'licence()' for distribution details.

R is a collaborative project with many contributors.
Type 'contributors()' for more information and
'citation()' on how to cite R or R packages in publications.

Type 'demo()' for some demos, 'help()' for on-line help, or
'help.start()' for an HTML browser interface to help.
Type 'q()' to quit R.

> # This file is part of the standard setup for testthat.
> # It is recommended that you do not modify it.
> #
> # Where should you do additional test configuration?
> # Learn more about the roles of various files in:
> # * https://r-pkgs.org/tests.html
> # * https://testthat.r-lib.org/reference/test_package.html#special-files
> 
> library(testthat)
> library(escape)
> 
> test_check("escape")
[1] "Calculating features per cell..."
[1] "Normalizing enrichment scores per cell..."
[1] "Calculating features per cell..."
[1] "Normalizing enrichment scores per cell..."
Picking joint bandwidth of 9.72
[1] "Using sets of 1000 cells. Running 1 times."
[1] "Calculating ranks..."
[1] "Calculating absolute values from ranks..."
[1] "Using sets of 1000 cells. Running 1 times."
[1] "Using sets of 1000 cells. Running 1 times."
[1] "Calculating ranks..."
[1] "Calculating absolute values from ranks..."
Notch went outside hinges
ℹ Do you want `notch = FALSE`?
Notch went outside hinges
ℹ Do you want `notch = FALSE`?
[ FAIL 0 | WARN 3 | SKIP 7 | PASS 18 ]

══ Skipped tests (7) ═══════════════════════════════════════════════════════════
• On CRAN (7): 'test-densityEnrichment.R:9:3', 'test-geyserEnrichment.R:8:3',
  'test-heatmapEnrichment.R:7:3', 'test-pcaEnrichment.R:9:3',
  'test-ridgeEnrichment.R:8:3', 'test-scatterEnrichment.R:7:3',
  'test-splitEnrichment.R:7:3'

[ FAIL 0 | WARN 3 | SKIP 7 | PASS 18 ]
Deleting unused snapshots:
• densityEnrichment/denistyenrichment-group-by-plot.svg
• geyserEnrichment/geyserenrichment-facet-plot.svg
• geyserEnrichment/geyserenrichment-gradient-facet-plot.svg
• geyserEnrichment/geyserenrichment-gradient-plot.svg
• geyserEnrichment/geyserenrichment-gradient-reorder-plot.svg
• geyserEnrichment/geyserenrichment-order-plot.svg
• geyserEnrichment/geyserenrichment-scale-plot.svg
• heatmapEnrichment/heatmapenrichment-clustercolumns-plot.svg
• heatmapEnrichment/heatmapenrichment-clusterrows-plot.svg
• heatmapEnrichment/heatmapenrichment-facet-plot.svg
• heatmapEnrichment/heatmapenrichment-scale-plot.svg
• pcaEnrichment/pcaenrichment-addfactors-plot.svg
• pcaEnrichment/pcaenrichment-facetby-addfactors-plot.svg
• pcaEnrichment/pcaenrichment-facetby-plot.svg
• pcaEnrichment/pcaenrichment-hex-plot.svg
• ridgeEnrichment/ridgeenrichment-facet-plot.svg
• ridgeEnrichment/ridgeenrichment-gradient-facet-plot.svg
• ridgeEnrichment/ridgeenrichment-gradient-plot.svg
• ridgeEnrichment/ridgeenrichment-gradient-reorder-plot.svg
• ridgeEnrichment/ridgeenrichment-order-plot.svg
• ridgeEnrichment/ridgeenrichment-rugadded-plot.svg
• scatterEnrichment/scatterenrichment-facet-plot.svg
• scatterEnrichment/scatterenrichment-hex-plot.svg
• scatterEnrichment/scatterenrichment-scale-plot.svg
• splitEnrichment/splitenrichment-facet-plot.svg
• splitEnrichment/splitenrichment-mean-plot.svg
> 
> proc.time()
   user  system elapsed 
 99.784   5.855 105.638 

Example timings

escape.Rcheck/escape-Ex.timings

nameusersystemelapsed
densityEnrichment0.7190.0240.743
escape.matrix0.3150.0470.363
getGeneSets4.5990.3364.935
geyserEnrichment0.8230.0310.855
heatmapEnrichment0.4330.0200.454
pcaEnrichment1.5510.0321.583
performNormalization0.2960.0000.296
performPCA0.3010.0000.301
ridgeEnrichment0.6460.0080.654
runEscape0.2930.0000.293
scatterEnrichment0.4700.0040.474
splitEnrichment0.6300.0000.631