Index of /checkResults/release/bioc-LATEST/cytoviewer/raw-results
Name
Last modified
Size
Description
Parent Directory
-
merida1/
05-Mar-2024 01:39
-
kunpeng2/
10-May-2024 00:40
-
info.dcf
21-May-2024 00:35
278
nebbiolo1/
21-May-2024 00:36
-
palomino3/
21-May-2024 00:36
-
lconway/
21-May-2024 00:37
-