Index of /checkResults/release/bioc-LATEST/cytoviewer/raw-results/nebbiolo1

[ICO]NameLast modifiedSizeDescription

[DIR]Parent Directory  -  
[TXT]buildsrc-out.txt15-Jun-2024 03:37 817  
[   ]buildsrc-summary.dcf15-Jun-2024 03:37 424  
[TXT]checksrc-out.txt15-Jun-2024 03:37 3.1K 
[   ]checksrc-summary.dcf15-Jun-2024 03:37 424  
[TXT]install-out.txt15-Jun-2024 03:37 961  
[   ]install-summary.dcf15-Jun-2024 03:37 264