Index of /checkResults/release/bioc-LATEST/cytoviewer/raw-results/palomino3

[ICO]NameLast modifiedSizeDescription

[DIR]Parent Directory  -  
[TXT]buildbin-out.txt22-Jun-2024 06:39 1.1K 
[   ]buildbin-summary.dcf22-Jun-2024 06:39 531  
[TXT]buildsrc-out.txt22-Jun-2024 06:39 853  
[   ]buildsrc-summary.dcf22-Jun-2024 06:39 461  
[TXT]checksrc-out.txt22-Jun-2024 06:39 3.1K 
[   ]checksrc-summary.dcf22-Jun-2024 06:39 457  
[TXT]install-out.txt22-Jun-2024 06:39 971  
[   ]install-summary.dcf22-Jun-2024 06:39 273