Back to Multiple platform build/check report for BioC 3.16
AB[C]DEFGHIJKLMNOPQRSTUVWXYZ

This page was generated on 2023-01-28 11:06:31 -0500 (Sat, 28 Jan 2023).

HostnameOSArch (*)R versionInstalled pkgs
nebbiolo2Linux (Ubuntu 20.04.5 LTS)x86_644.2.2 (2022-10-31) -- "Innocent and Trusting" 4510
palomino4Windows Server 2022 Datacenterx644.2.2 (2022-10-31 ucrt) -- "Innocent and Trusting" 4288
lconwaymacOS 12.5.1 Montereyx86_644.2.2 (2022-10-31) -- "Innocent and Trusting" 4317
Click on any hostname to see more info about the system (e.g. compilers)      (*) as reported by 'uname -p', except on Windows and Mac OS X

BUILD results for coseq on palomino4


To the developers/maintainers of the coseq package:
- Please allow up to 24 hours (and sometimes 48 hours) for your latest push to git@git.bioconductor.org:packages/coseq.git to
reflect on this report. See How and When does the builder pull? When will my changes propagate? for more information.
- Make sure to use the following settings in order to reproduce any error or warning you see on this page.

raw results

Package 421/2183HostnameOS / ArchINSTALLBUILDCHECKBUILD BIN
coseq 1.22.0  (landing page)
Andrea Rau
Snapshot Date: 2023-01-27 14:00:04 -0500 (Fri, 27 Jan 2023)
git_url: https://git.bioconductor.org/packages/coseq
git_branch: RELEASE_3_16
git_last_commit: a1bc50f
git_last_commit_date: 2022-11-01 11:15:03 -0500 (Tue, 01 Nov 2022)
nebbiolo2Linux (Ubuntu 20.04.5 LTS) / x86_64  OK    OK    OK  UNNEEDED, same version is already published
palomino4Windows Server 2022 Datacenter / x64  OK    OK    OK    OK  UNNEEDED, same version is already published
lconwaymacOS 12.5.1 Monterey / x86_64  OK    OK    OK    OK  UNNEEDED, same version is already published

Summary

Package: coseq
Version: 1.22.0
Command: chmod a+r coseq -R && F:\biocbuild\bbs-3.16-bioc\R\bin\R.exe CMD build --keep-empty-dirs --no-resave-data coseq
StartedAt: 2023-01-27 18:07:26 -0500 (Fri, 27 Jan 2023)
EndedAt: 2023-01-27 18:11:45 -0500 (Fri, 27 Jan 2023)
EllapsedTime: 259.0 seconds
RetCode: 0
Status:   OK  
PackageFile: coseq_1.22.0.tar.gz
PackageFileSize: 1.029 MiB

Command output

##############################################################################
##############################################################################
###
### Running command:
###
###   chmod a+r coseq -R && F:\biocbuild\bbs-3.16-bioc\R\bin\R.exe CMD build --keep-empty-dirs --no-resave-data coseq
###
##############################################################################
##############################################################################


* checking for file 'coseq/DESCRIPTION' ... OK
* preparing 'coseq':
* checking DESCRIPTION meta-information ... OK
* installing the package to build vignettes
* creating vignettes ... OK
* checking for LF line-endings in source and make files and shell scripts
* checking for empty or unneeded directories
* looking to see if a 'data/datalist' file should be added
* building 'coseq_1.22.0.tar.gz'