Index of /checkResults/release/bioc-LATEST/coseq/raw-results
Name
Last modified
Size
Description
Parent Directory
-
info.dcf
02-Feb-2023 01:08
264
kjohnson/
12-Jul-2022 00:06
-
lconway/
02-Feb-2023 01:08
-
nebbiolo2/
02-Feb-2023 01:05
-
palomino4/
02-Feb-2023 01:06
-