Back to Multiple platform build/check report for BioC 3.14
AB[C]DEFGHIJKLMNOPQRSTUVWXYZ

This page was generated on 2022-01-21 13:05:00 -0500 (Fri, 21 Jan 2022).

HostnameOSArch (*)R versionInstalled pkgs
nebbiolo2Linux (Ubuntu 20.04.4 LTS)x86_644.1.2 (2021-11-01) -- "Bird Hippie" 4329
tokay2Windows Server 2012 R2 Standardx644.1.2 (2021-11-01) -- "Bird Hippie" 4079
machv2macOS 10.14.6 Mojavex86_644.1.2 (2021-11-01) -- "Bird Hippie" 4140
Click on any hostname to see more info about the system (e.g. compilers)      (*) as reported by 'uname -p', except on Windows and Mac OS X

CHECK results for compartmap on nebbiolo2


To the developers/maintainers of the compartmap package:
- Please allow up to 24 hours (and sometimes 48 hours) for your latest push to git@git.bioconductor.org:packages/compartmap.git to
reflect on this report. See How and When does the builder pull? When will my changes propagate? here for more information.
- Make sure to use the following settings in order to reproduce any error or warning you see on this page.

raw results

Package 376/2083HostnameOS / ArchINSTALLBUILDCHECKBUILD BIN
compartmap 1.12.0  (landing page)
Benjamin Johnson
Snapshot Date: 2022-01-20 01:55:04 -0500 (Thu, 20 Jan 2022)
git_url: https://git.bioconductor.org/packages/compartmap
git_branch: RELEASE_3_14
git_last_commit: 3fce1b6
git_last_commit_date: 2021-10-26 12:48:10 -0500 (Tue, 26 Oct 2021)
nebbiolo2Linux (Ubuntu 20.04.4 LTS) / x86_64  OK    OK    OK  UNNEEDED, same version is already published
tokay2Windows Server 2012 R2 Standard / x64  OK    OK    OK    OK  UNNEEDED, same version is already published
machv2macOS 10.14.6 Mojave / x86_64  OK    OK    OK    OK  UNNEEDED, same version is already published

Summary

Package: compartmap
Version: 1.12.0
Command: /home/biocbuild/bbs-3.14-bioc/R/bin/R CMD check --install=check:compartmap.install-out.txt --library=/home/biocbuild/bbs-3.14-bioc/R/library --no-vignettes --timings compartmap_1.12.0.tar.gz
StartedAt: 2022-01-20 06:51:50 -0500 (Thu, 20 Jan 2022)
EndedAt: 2022-01-20 06:56:47 -0500 (Thu, 20 Jan 2022)
EllapsedTime: 297.6 seconds
RetCode: 0
Status:   OK  
CheckDir: compartmap.Rcheck
Warnings: 0

Command output

##############################################################################
##############################################################################
###
### Running command:
###
###   /home/biocbuild/bbs-3.14-bioc/R/bin/R CMD check --install=check:compartmap.install-out.txt --library=/home/biocbuild/bbs-3.14-bioc/R/library --no-vignettes --timings compartmap_1.12.0.tar.gz
###
##############################################################################
##############################################################################


* using log directory ‘/home/biocbuild/bbs-3.14-bioc/meat/compartmap.Rcheck’
* using R version 4.1.2 (2021-11-01)
* using platform: x86_64-pc-linux-gnu (64-bit)
* using session charset: UTF-8
* using option ‘--no-vignettes’
* checking for file ‘compartmap/DESCRIPTION’ ... OK
* checking extension type ... Package
* this is package ‘compartmap’ version ‘1.12.0’
* package encoding: UTF-8
* checking package namespace information ... OK
* checking package dependencies ... OK
* checking if this is a source package ... OK
* checking if there is a namespace ... OK
* checking for hidden files and directories ... OK
* checking for portable file names ... OK
* checking for sufficient/correct file permissions ... OK
* checking whether package ‘compartmap’ can be installed ... OK
* checking installed package size ... OK
* checking package directory ... OK
* checking ‘build’ directory ... OK
* checking DESCRIPTION meta-information ... OK
* checking top-level files ... OK
* checking for left-over files ... OK
* checking index information ... OK
* checking package subdirectories ... OK
* checking R files for non-ASCII characters ... OK
* checking R files for syntax errors ... OK
* checking whether the package can be loaded ... OK
* checking whether the package can be loaded with stated dependencies ... OK
* checking whether the package can be unloaded cleanly ... OK
* checking whether the namespace can be loaded with stated dependencies ... OK
* checking whether the namespace can be unloaded cleanly ... OK
* checking dependencies in R code ... NOTE
package 'methods' is used but not declared
* checking S3 generic/method consistency ... OK
* checking replacement functions ... OK
* checking foreign function calls ... OK
* checking R code for possible problems ... NOTE
.ebayes: no visible global function definition for ‘sd’
.jse: no visible global function definition for ‘sd’
.unitarize: no visible global function definition for ‘median’
.window.mean: no visible global function definition for ‘weighted.mean’
.window.mean.rcpp: no visible global function definition for
  ‘weighted.mean’
.window.mean.rcpp: no visible binding for global variable ‘x’
checkAssayType: no visible global function definition for ‘is’
condenseRE: no visible global function definition for ‘is’
condenseSE: no visible global function definition for ‘is’
estRMT: no visible global function definition for ‘cov’
estRMT : <anonymous>: no visible global function definition for ‘optim’
extractOpenClosed: no visible global function definition for ‘is’
filterCompartments: no visible global function definition for ‘is’
fixCompartments: no visible global function definition for ‘is’
getATACABsignal : atacCompartments: no visible global function
  definition for ‘keepSeqlevels’
getATACABsignal : atacCompartments: no visible global function
  definition for ‘as’
getATACABsignal : <anonymous>: no visible global function definition
  for ‘as’
getATACABsignal: no visible global function definition for ‘as’
getBinMatrix: no visible global function definition for ‘IRanges’
getCorMatrix: no visible global function definition for ‘cor’
getDenoisedCorMatrix: no visible global function definition for
  ‘keepSeqlevels’
getDomainInflections: no visible global function definition for ‘is’
getDomainInflections: no visible global function definition for ‘data’
getDomainInflections: no visible global function definition for
  ‘seqlengths’
getDomainInflections: no visible global function definition for
  ‘queryHits’
getDomainInflections: no visible global function definition for
  ‘subjectHits’
getDomainInflections : .getInflections: no visible global function
  definition for ‘IRanges’
getDomainInflections: no visible global function definition for ‘as’
getRNAABsignal : atacCompartments: no visible global function
  definition for ‘keepSeqlevels’
getRNAABsignal : atacCompartments: no visible global function
  definition for ‘as’
getRNAABsignal : <anonymous>: no visible global function definition for
  ‘as’
getRNAABsignal: no visible global function definition for ‘as’
getSVD: no visible global function definition for ‘cor’
getSeqLengths: no visible global function definition for ‘data’
getSeqLengths: no visible global function definition for ‘seqlevels’
getSeqLengths: no visible global function definition for ‘seqlengths’
hdf5TFIDF: no visible global function definition for ‘is’
hdf5TFIDF: no visible global function definition for ‘as’
importBigWig: no visible global function definition for
  ‘seqlevelsStyle<-’
importBigWig: no visible global function definition for ‘seqlengths’
importBigWig: no visible global function definition for
  ‘keepStandardChromosomes’
importBigWig: no visible global function definition for ‘keepSeqlevels’
importBigWig: no visible global function definition for ‘seqlevels’
importBigWig: no visible global function definition for ‘SimpleList’
meanSmoother: no visible global function definition for ‘median’
plotAB: no visible global function definition for ‘is’
plotAB: no visible global function definition for ‘keepSeqlevels’
plotAB: no visible global function definition for ‘as’
plotAB: no visible global function definition for ‘par’
plotAB: no visible global function definition for ‘barplot’
plotAB: no visible global function definition for ‘abline’
plotAB: no visible global function definition for ‘median’
plotCorMatrix: no visible binding for global variable ‘Var2’
plotCorMatrix: no visible binding for global variable ‘Var1’
plotCorMatrix: no visible binding for global variable ‘value’
precomputeBootstrapMeans : <anonymous>: no visible global function
  definition for ‘SimpleList’
sparseToDenseMatrix: no visible global function definition for ‘as’
sparseToDenseMatrix : <anonymous>: no visible global function
  definition for ‘as’
summarizeBootstraps : <anonymous>: no visible global function
  definition for ‘subjectHits’
summarizeBootstraps : <anonymous>: no visible global function
  definition for ‘queryHits’
transformTFIDF: no visible global function definition for ‘is’
as.matrix,GRanges: no visible global function definition for ‘as’
coerce,GRanges-matrix: no visible global function definition for ‘as’
coerce,matrix-GRanges: no visible global function definition for ‘as’
granges,matrix: no visible global function definition for ‘as’
Undefined global functions or variables:
  IRanges SimpleList Var1 Var2 abline as barplot cor cov data is
  keepSeqlevels keepStandardChromosomes median optim par queryHits sd
  seqlengths seqlevels seqlevelsStyle<- subjectHits value weighted.mean
  x
Consider adding
  importFrom("graphics", "abline", "barplot", "par")
  importFrom("methods", "as", "is")
  importFrom("stats", "cor", "cov", "median", "optim", "sd",
             "weighted.mean")
  importFrom("utils", "data")
to your NAMESPACE file (and ensure that your DESCRIPTION Imports field
contains 'methods').
* checking Rd files ... NOTE
prepare_Rd: filterCompartments.Rd:22-24: Dropping empty section \examples
prepare_Rd: fixCompartments.Rd:24-26: Dropping empty section \examples
prepare_Rd: summarizeBootstraps.Rd:24-26: Dropping empty section \examples
* checking Rd metadata ... OK
* checking Rd cross-references ... OK
* checking for missing documentation entries ... OK
* checking for code/documentation mismatches ... OK
* checking Rd \usage sections ... OK
* checking Rd contents ... OK
* checking for unstated dependencies in examples ... OK
* checking contents of ‘data’ directory ... OK
* checking data for non-ASCII characters ... OK
* checking data for ASCII and uncompressed saves ... OK
* checking files in ‘vignettes’ ... OK
* checking examples ... OK
Examples with CPU (user + system) or elapsed time > 5s
                    user system elapsed
scCompartments    98.210  0.144  98.354
getDenoisedMatrix  7.568  0.119   7.688
* checking for unstated dependencies in vignettes ... OK
* checking package vignettes in ‘inst/doc’ ... OK
* checking running R code from vignettes ... SKIPPED
* checking re-building of vignette outputs ... SKIPPED
* checking PDF version of manual ... OK
* DONE

Status: 3 NOTEs
See
  ‘/home/biocbuild/bbs-3.14-bioc/meat/compartmap.Rcheck/00check.log’
for details.



Installation output

compartmap.Rcheck/00install.out

##############################################################################
##############################################################################
###
### Running command:
###
###   /home/biocbuild/bbs-3.14-bioc/R/bin/R CMD INSTALL compartmap
###
##############################################################################
##############################################################################


* installing to library ‘/home/biocbuild/bbs-3.14-bioc/R/library’
* installing *source* package ‘compartmap’ ...
** using staged installation
** R
** data
** inst
** byte-compile and prepare package for lazy loading
** help
*** installing help indices
*** copying figures
** building package indices
** installing vignettes
** testing if installed package can be loaded from temporary location
** testing if installed package can be loaded from final location
** testing if installed package keeps a record of temporary installation path
* DONE (compartmap)

Tests output


Example timings

compartmap.Rcheck/compartmap-Ex.timings

nameusersystemelapsed
agrestiCoullCI0.0010.0000.002
bootstrapCompartments000
checkAssayType0.1450.0150.161
condenseRE0.5870.0200.607
condenseSE1.4630.2511.715
estRMT0.1570.0000.157
extractOpenClosed0.0160.0030.020
fexpit0.0020.0010.003
fisherZ0.0000.0010.001
flogit0.0000.0020.001
getABSignal0.2570.0350.293
getATACABsignal2.2010.1642.364
getAssayNames0.1120.0280.140
getBinMatrix0.1290.0070.138
getChrs0.1000.0290.128
getCorMatrix0.1270.0120.139
getDenoisedMatrix7.5680.1197.688
getDomainInflections2.7220.0682.791
getGlobalMeans0.2740.0170.290
getMatrixBlocks0.0120.0000.011
getSVD0.0060.0000.006
getSeqLengths0.0020.0000.002
getShrinkageTargets0.0010.0000.001
hdf5TFIDF0.1990.0000.200
ifisherZ0.0010.0000.001
meanSmoother1.2410.0161.257
plotAB1.0020.0041.006
plotCorMatrix0.0260.0000.026
precomputeBootstrapMeans0.4720.0040.476
scCompartments98.210 0.14498.354
shrinkBins0.8330.0160.848
sparseToDenseMatrix0.0350.0000.034
transformTFIDF0.0180.0000.019