Back to Multiple platform build/check report for BioC 3.18:   simplified   long
AB[C]DEFGHIJKLMNOPQRSTUVWXYZ

This page was generated on 2024-03-29 11:36:39 -0400 (Fri, 29 Mar 2024).

HostnameOSArch (*)R versionInstalled pkgs
nebbiolo2Linux (Ubuntu 22.04.3 LTS)x86_644.3.3 (2024-02-29) -- "Angel Food Cake" 4669
palomino4Windows Server 2022 Datacenterx644.3.3 (2024-02-29 ucrt) -- "Angel Food Cake" 4404
merida1macOS 12.7.1 Montereyx86_644.3.3 (2024-02-29) -- "Angel Food Cake" 4427
Click on any hostname to see more info about the system (e.g. compilers)      (*) as reported by 'uname -p', except on Windows and Mac OS X

Package 411/2266HostnameOS / ArchINSTALLBUILDCHECKBUILD BIN
compartmap 1.20.0  (landing page)
Benjamin Johnson
Snapshot Date: 2024-03-27 14:05:05 -0400 (Wed, 27 Mar 2024)
git_url: https://git.bioconductor.org/packages/compartmap
git_branch: RELEASE_3_18
git_last_commit: 4538ef1
git_last_commit_date: 2023-10-24 11:09:25 -0400 (Tue, 24 Oct 2023)
nebbiolo2Linux (Ubuntu 22.04.3 LTS) / x86_64  OK    OK    ERROR  
palomino4Windows Server 2022 Datacenter / x64  OK    OK    OK    OK  UNNEEDED, same version is already published
merida1macOS 12.7.1 Monterey / x86_64  OK    OK    OK    OK  UNNEEDED, same version is already published
kjohnson1macOS 13.6.1 Ventura / arm64see weekly results here

CHECK results for compartmap on palomino4


To the developers/maintainers of the compartmap package:
- Allow up to 24 hours (and sometimes 48 hours) for your latest push to git@git.bioconductor.org:packages/compartmap.git to reflect on this report. See Troubleshooting Build Report for more information.
- Use the following Renviron settings to reproduce errors and warnings.
- If 'R CMD check' started to fail recently on the Linux builder(s) over a missing dependency, add the missing dependency to 'Suggests:' in your DESCRIPTION file. See Renviron.bioc for more information.

raw results


Summary

Package: compartmap
Version: 1.20.0
Command: F:\biocbuild\bbs-3.18-bioc\R\bin\R.exe CMD check --no-multiarch --install=check:compartmap.install-out.txt --library=F:\biocbuild\bbs-3.18-bioc\R\library --no-vignettes --timings compartmap_1.20.0.tar.gz
StartedAt: 2024-03-27 23:37:09 -0400 (Wed, 27 Mar 2024)
EndedAt: 2024-03-27 23:43:12 -0400 (Wed, 27 Mar 2024)
EllapsedTime: 363.3 seconds
RetCode: 0
Status:   OK  
CheckDir: compartmap.Rcheck
Warnings: 0

Command output

##############################################################################
##############################################################################
###
### Running command:
###
###   F:\biocbuild\bbs-3.18-bioc\R\bin\R.exe CMD check --no-multiarch --install=check:compartmap.install-out.txt --library=F:\biocbuild\bbs-3.18-bioc\R\library --no-vignettes --timings compartmap_1.20.0.tar.gz
###
##############################################################################
##############################################################################


* using log directory 'F:/biocbuild/bbs-3.18-bioc/meat/compartmap.Rcheck'
* using R version 4.3.3 (2024-02-29 ucrt)
* using platform: x86_64-w64-mingw32 (64-bit)
* R was compiled by
    gcc.exe (GCC) 12.3.0
    GNU Fortran (GCC) 12.3.0
* running under: Windows Server 2022 x64 (build 20348)
* using session charset: UTF-8
* using option '--no-vignettes'
* checking for file 'compartmap/DESCRIPTION' ... OK
* checking extension type ... Package
* this is package 'compartmap' version '1.20.0'
* package encoding: UTF-8
* checking package namespace information ... OK
* checking package dependencies ... OK
* checking if this is a source package ... OK
* checking if there is a namespace ... OK
* checking for hidden files and directories ... OK
* checking for portable file names ... OK
* checking whether package 'compartmap' can be installed ... OK
* checking installed package size ... OK
* checking package directory ... OK
* checking 'build' directory ... OK
* checking DESCRIPTION meta-information ... OK
* checking top-level files ... OK
* checking for left-over files ... OK
* checking index information ... OK
* checking package subdirectories ... OK
* checking R files for non-ASCII characters ... OK
* checking R files for syntax errors ... OK
* checking whether the package can be loaded ... OK
* checking whether the package can be loaded with stated dependencies ... OK
* checking whether the package can be unloaded cleanly ... OK
* checking whether the namespace can be loaded with stated dependencies ... OK
* checking whether the namespace can be unloaded cleanly ... OK
* checking dependencies in R code ... NOTE
package 'methods' is used but not declared
* checking S3 generic/method consistency ... OK
* checking replacement functions ... OK
* checking foreign function calls ... OK
* checking R code for possible problems ... NOTE
.ebayes: no visible global function definition for 'sd'
.jse: no visible global function definition for 'sd'
.unitarize: no visible global function definition for 'median'
.window.mean: no visible global function definition for 'weighted.mean'
.window.mean.rcpp: no visible global function definition for
  'weighted.mean'
.window.mean.rcpp: no visible binding for global variable 'x'
checkAssayType: no visible global function definition for 'is'
condenseRE: no visible global function definition for 'is'
condenseSE: no visible global function definition for 'is'
estRMT: no visible global function definition for 'cov'
estRMT : <anonymous>: no visible global function definition for 'optim'
extractOpenClosed: no visible global function definition for 'is'
filterCompartments: no visible global function definition for 'is'
fixCompartments: no visible global function definition for 'is'
getATACABsignal : atacCompartments: no visible global function
  definition for 'keepSeqlevels'
getATACABsignal : atacCompartments: no visible global function
  definition for 'as'
getATACABsignal : <anonymous>: no visible global function definition
  for 'as'
getATACABsignal: no visible global function definition for 'as'
getBinMatrix: no visible global function definition for 'IRanges'
getCorMatrix: no visible global function definition for 'cor'
getDenoisedCorMatrix: no visible global function definition for
  'keepSeqlevels'
getDomainInflections: no visible global function definition for 'is'
getDomainInflections: no visible global function definition for 'data'
getDomainInflections: no visible global function definition for
  'seqlengths'
getDomainInflections: no visible global function definition for
  'queryHits'
getDomainInflections: no visible global function definition for
  'subjectHits'
getDomainInflections : .getInflections: no visible global function
  definition for 'IRanges'
getDomainInflections: no visible global function definition for 'as'
getRNAABsignal : atacCompartments: no visible global function
  definition for 'keepSeqlevels'
getRNAABsignal : atacCompartments: no visible global function
  definition for 'as'
getRNAABsignal : <anonymous>: no visible global function definition for
  'as'
getRNAABsignal: no visible global function definition for 'as'
getSVD: no visible global function definition for 'cor'
getSeqLengths: no visible global function definition for 'data'
getSeqLengths: no visible global function definition for 'seqlevels'
getSeqLengths: no visible global function definition for 'seqlengths'
hdf5TFIDF: no visible global function definition for 'is'
hdf5TFIDF: no visible global function definition for 'as'
importBigWig: no visible global function definition for
  'seqlevelsStyle<-'
importBigWig: no visible global function definition for 'seqlengths'
importBigWig: no visible global function definition for
  'keepStandardChromosomes'
importBigWig: no visible global function definition for 'keepSeqlevels'
importBigWig: no visible global function definition for 'seqlevels'
importBigWig: no visible global function definition for 'SimpleList'
meanSmoother: no visible global function definition for 'median'
plotAB: no visible global function definition for 'is'
plotAB: no visible global function definition for 'keepSeqlevels'
plotAB: no visible global function definition for 'as'
plotAB: no visible global function definition for 'par'
plotAB: no visible global function definition for 'barplot'
plotAB: no visible global function definition for 'abline'
plotAB: no visible global function definition for 'median'
plotCorMatrix: no visible binding for global variable 'Var2'
plotCorMatrix: no visible binding for global variable 'Var1'
plotCorMatrix: no visible binding for global variable 'value'
precomputeBootstrapMeans : <anonymous>: no visible global function
  definition for 'SimpleList'
sparseToDenseMatrix: no visible global function definition for 'as'
sparseToDenseMatrix : <anonymous>: no visible global function
  definition for 'as'
summarizeBootstraps : <anonymous>: no visible global function
  definition for 'subjectHits'
summarizeBootstraps : <anonymous>: no visible global function
  definition for 'queryHits'
transformTFIDF: no visible global function definition for 'is'
as.matrix,GRanges: no visible global function definition for 'as'
coerce,GRanges-matrix: no visible global function definition for 'as'
coerce,matrix-GRanges: no visible global function definition for 'as'
granges,matrix: no visible global function definition for 'as'
Undefined global functions or variables:
  IRanges SimpleList Var1 Var2 abline as barplot cor cov data is
  keepSeqlevels keepStandardChromosomes median optim par queryHits sd
  seqlengths seqlevels seqlevelsStyle<- subjectHits value weighted.mean
  x
Consider adding
  importFrom("graphics", "abline", "barplot", "par")
  importFrom("methods", "as", "is")
  importFrom("stats", "cor", "cov", "median", "optim", "sd",
             "weighted.mean")
  importFrom("utils", "data")
to your NAMESPACE file (and ensure that your DESCRIPTION Imports field
contains 'methods').
* checking Rd files ... NOTE
prepare_Rd: filterCompartments.Rd:22-24: Dropping empty section \examples
prepare_Rd: fixCompartments.Rd:24-26: Dropping empty section \examples
prepare_Rd: summarizeBootstraps.Rd:24-26: Dropping empty section \examples
* checking Rd metadata ... OK
* checking Rd cross-references ... OK
* checking for missing documentation entries ... OK
* checking for code/documentation mismatches ... OK
* checking Rd \usage sections ... OK
* checking Rd contents ... OK
* checking for unstated dependencies in examples ... OK
* checking contents of 'data' directory ... OK
* checking data for non-ASCII characters ... OK
* checking data for ASCII and uncompressed saves ... OK
* checking files in 'vignettes' ... OK
* checking examples ... OK
Examples with CPU (user + system) or elapsed time > 5s
                   user system elapsed
scCompartments    95.73   2.35   98.11
getDenoisedMatrix  9.63   0.11    9.78
* checking for unstated dependencies in vignettes ... OK
* checking package vignettes in 'inst/doc' ... OK
* checking running R code from vignettes ... SKIPPED
* checking re-building of vignette outputs ... SKIPPED
* checking PDF version of manual ... OK
* DONE

Status: 3 NOTEs
See
  'F:/biocbuild/bbs-3.18-bioc/meat/compartmap.Rcheck/00check.log'
for details.



Installation output

compartmap.Rcheck/00install.out

##############################################################################
##############################################################################
###
### Running command:
###
###   F:\biocbuild\bbs-3.18-bioc\R\bin\R.exe CMD INSTALL compartmap
###
##############################################################################
##############################################################################


* installing to library 'F:/biocbuild/bbs-3.18-bioc/R/library'
* installing *source* package 'compartmap' ...
** using staged installation
** R
** data
** inst
** byte-compile and prepare package for lazy loading
** help
*** installing help indices
*** copying figures
** building package indices
** installing vignettes
** testing if installed package can be loaded from temporary location
** testing if installed package can be loaded from final location
** testing if installed package keeps a record of temporary installation path
* DONE (compartmap)

Tests output


Example timings

compartmap.Rcheck/compartmap-Ex.timings

nameusersystemelapsed
agrestiCoullCI000
bootstrapCompartments000
checkAssayType0.870.000.88
condenseRE0.610.020.66
condenseSE0.460.040.50
estRMT0.120.000.12
extractOpenClosed0.030.000.03
fexpit000
fisherZ000
flogit000
getABSignal0.310.160.47
getATACABsignal2.750.042.79
getAssayNames0.130.020.14
getBinMatrix0.260.170.44
getChrs0.110.020.13
getCorMatrix0.220.140.36
getDenoisedMatrix9.630.119.78
getDomainInflections1.620.091.72
getGlobalMeans0.320.000.31
getMatrixBlocks0.000.020.01
getSVD000
getSeqLengths0.000.010.02
getShrinkageTargets000
hdf5TFIDF0.310.020.39
ifisherZ000
meanSmoother1.620.111.73
plotAB0.320.140.46
plotCorMatrix0.060.000.06
precomputeBootstrapMeans0.500.010.53
scCompartments95.73 2.3598.11
shrinkBins1.500.031.53
sparseToDenseMatrix0.030.000.03
transformTFIDF0.030.000.03