Back to Multiple platform build/check report for BioC 3.19:   simplified   long
AB[C]DEFGHIJKLMNOPQRSTUVWXYZ

This page was generated on 2024-05-27 11:35:45 -0400 (Mon, 27 May 2024).

HostnameOSArch (*)R versionInstalled pkgs
nebbiolo1Linux (Ubuntu 22.04.3 LTS)x86_644.4.0 (2024-04-24) -- "Puppy Cup" 4752
lconwaymacOS 12.7.1 Montereyx86_644.4.0 (2024-04-24) -- "Puppy Cup" 4517
Click on any hostname to see more info about the system (e.g. compilers)      (*) as reported by 'uname -p', except on Windows and Mac OS X

Package 418/2300HostnameOS / ArchINSTALLBUILDCHECKBUILD BIN
compEpiTools 1.38.0  (landing page)
Mattia Furlan
Snapshot Date: 2024-05-26 14:00:09 -0400 (Sun, 26 May 2024)
git_url: https://git.bioconductor.org/packages/compEpiTools
git_branch: RELEASE_3_19
git_last_commit: b4f7b92
git_last_commit_date: 2024-04-30 10:38:11 -0400 (Tue, 30 Apr 2024)
nebbiolo1Linux (Ubuntu 22.04.3 LTS) / x86_64  OK    OK    OK  UNNEEDED, same version is already published
lconwaymacOS 12.7.1 Monterey / x86_64  OK    OK    OK    OK  UNNEEDED, same version is already published
kjohnson3macOS 13.6.5 Ventura / arm64see weekly results here

BUILD BIN results for compEpiTools on lconway


To the developers/maintainers of the compEpiTools package:
- Allow up to 24 hours (and sometimes 48 hours) for your latest push to git@git.bioconductor.org:packages/compEpiTools.git to reflect on this report. See Troubleshooting Build Report for more information.
- Use the following Renviron settings to reproduce errors and warnings.
- If 'R CMD check' started to fail recently on the Linux builder(s) over a missing dependency, add the missing dependency to 'Suggests:' in your DESCRIPTION file. See Renviron.bioc for more information.

raw results


Summary

Package: compEpiTools
Version: 1.38.0
Command: rm -rf compEpiTools.buildbin-libdir && mkdir compEpiTools.buildbin-libdir && /Users/biocbuild/BBS/utils/build-universal.sh compEpiTools_1.38.0.tar.gz /Library/Frameworks/R.framework/Resources/bin/R compEpiTools.buildbin-libdir
StartedAt: 2024-05-27 01:30:20 -0400 (Mon, 27 May 2024)
EndedAt: 2024-05-27 01:31:47 -0400 (Mon, 27 May 2024)
EllapsedTime: 87.0 seconds
RetCode: 0
Status:   OK  
PackageFile: compEpiTools_1.38.0.tgz
PackageFileSize: 2.345 MiB

Command output

##############################################################################
##############################################################################
###
### Running command:
###
###   rm -rf compEpiTools.buildbin-libdir && mkdir compEpiTools.buildbin-libdir && /Users/biocbuild/BBS/utils/build-universal.sh compEpiTools_1.38.0.tar.gz /Library/Frameworks/R.framework/Resources/bin/R compEpiTools.buildbin-libdir
###
##############################################################################
##############################################################################


>>>>>>> 
>>>>>>> INSTALLATION WITH 'R CMD INSTALL --preclean --no-multiarch --library=compEpiTools.buildbin-libdir compEpiTools_1.38.0.tar.gz'
>>>>>>> 

* installing *source* package ‘compEpiTools’ ...
** using staged installation
** R
** inst
** byte-compile and prepare package for lazy loading

groupGOTerms: 	GOBPTerm, GOMFTerm, GOCCTerm environments built.
** help
*** installing help indices
** building package indices
** installing vignettes
** testing if installed package can be loaded from temporary location

groupGOTerms: 	GOBPTerm, GOMFTerm, GOCCTerm environments built.
** testing if installed package can be loaded from final location

groupGOTerms: 	GOBPTerm, GOMFTerm, GOCCTerm environments built.
** testing if installed package keeps a record of temporary installation path
* DONE (compEpiTools)