Index of /checkResults/release/bioc-LATEST/coMethDMR/raw-results

[ICO]NameLast modifiedSizeDescription

[DIR]Parent Directory  -  
[   ]info.dcf03-Dec-2023 01:37 275  
[DIR]kunpeng2/03-Nov-2023 00:40 -  
[DIR]lconway/03-Dec-2023 01:37 -  
[DIR]nebbiolo2/03-Dec-2023 01:35 -  
[DIR]palomino4/03-Dec-2023 01:36 -