Index of /checkResults/release/bioc-LATEST/coMethDMR/raw-results/kunpeng2

[ICO]NameLast modifiedSizeDescription

[DIR]Parent Directory  -  
[TXT]buildsrc-out.txt03-Nov-2023 00:40 619  
[   ]buildsrc-summary.dcf03-Nov-2023 00:40 337  
[TXT]checksrc-out.txt26-Oct-2023 00:41 4.4K 
[   ]checksrc-summary.dcf26-Oct-2023 00:41 409  
[TXT]install-out.txt03-Nov-2023 00:40 954  
[   ]install-summary.dcf03-Nov-2023 00:40 256