Index of /checkResults/release/bioc-LATEST/coMethDMR/raw-results/palomino4

[ICO]NameLast modifiedSizeDescription

[DIR]Parent Directory  -  
[TXT]buildbin-out.txt02-Mar-2024 01:36 1.1K 
[   ]buildbin-summary.dcf02-Mar-2024 01:36 524  
[TXT]buildsrc-out.txt02-Mar-2024 01:36 908  
[   ]buildsrc-summary.dcf02-Mar-2024 01:36 459  
[TXT]checksrc-out.txt02-Mar-2024 01:36 4.2K 
[   ]checksrc-summary.dcf02-Mar-2024 01:36 453  
[TXT]install-out.txt02-Mar-2024 01:36 1.0K 
[   ]install-summary.dcf02-Mar-2024 01:36 271