Back to Multiple platform build/check report for BioC 3.19:   simplified   long
AB[C]DEFGHIJKLMNOPQRSTUVWXYZ

This page was generated on 2024-05-18 11:37:38 -0400 (Sat, 18 May 2024).

HostnameOSArch (*)R versionInstalled pkgs
nebbiolo1Linux (Ubuntu 22.04.3 LTS)x86_644.4.0 (2024-04-24) -- "Puppy Cup" 4751
palomino3Windows Server 2022 Datacenterx644.4.0 (2024-04-24 ucrt) -- "Puppy Cup" 4485
lconwaymacOS 12.7.1 Montereyx86_644.4.0 (2024-04-24) -- "Puppy Cup" 4515
Click on any hostname to see more info about the system (e.g. compilers)      (*) as reported by 'uname -p', except on Windows and Mac OS X

Package 294/2300HostnameOS / ArchINSTALLBUILDCHECKBUILD BIN
celda 1.20.0  (landing page)
Joshua Campbell
Snapshot Date: 2024-05-17 14:00:11 -0400 (Fri, 17 May 2024)
git_url: https://git.bioconductor.org/packages/celda
git_branch: RELEASE_3_19
git_last_commit: 7e5755c
git_last_commit_date: 2024-04-30 11:14:54 -0400 (Tue, 30 Apr 2024)
nebbiolo1Linux (Ubuntu 22.04.3 LTS) / x86_64  OK    OK    OK  UNNEEDED, same version is already published
palomino3Windows Server 2022 Datacenter / x64  OK    OK    OK    OK  UNNEEDED, same version is already published
lconwaymacOS 12.7.1 Monterey / x86_64  OK    OK    OK    OK  UNNEEDED, same version is already published
kjohnson3macOS 13.6.5 Ventura / arm64see weekly results here

BUILD BIN results for celda on lconway


To the developers/maintainers of the celda package:
- Allow up to 24 hours (and sometimes 48 hours) for your latest push to git@git.bioconductor.org:packages/celda.git to reflect on this report. See Troubleshooting Build Report for more information.
- Use the following Renviron settings to reproduce errors and warnings.
- If 'R CMD check' started to fail recently on the Linux builder(s) over a missing dependency, add the missing dependency to 'Suggests:' in your DESCRIPTION file. See Renviron.bioc for more information.

raw results


Summary

Package: celda
Version: 1.20.0
Command: rm -rf celda.buildbin-libdir && mkdir celda.buildbin-libdir && /Users/biocbuild/BBS/utils/build-universal.sh celda_1.20.0.tar.gz /Library/Frameworks/R.framework/Resources/bin/R celda.buildbin-libdir
StartedAt: 2024-05-18 01:06:50 -0400 (Sat, 18 May 2024)
EndedAt: 2024-05-18 01:08:26 -0400 (Sat, 18 May 2024)
EllapsedTime: 95.7 seconds
RetCode: 0
Status:   OK  
PackageFile: celda_1.20.0.tgz
PackageFileSize: 3.329 MiB

Command output

##############################################################################
##############################################################################
###
### Running command:
###
###   rm -rf celda.buildbin-libdir && mkdir celda.buildbin-libdir && /Users/biocbuild/BBS/utils/build-universal.sh celda_1.20.0.tar.gz /Library/Frameworks/R.framework/Resources/bin/R celda.buildbin-libdir
###
##############################################################################
##############################################################################


>>>>>>> 
>>>>>>> INSTALLATION WITH 'R CMD INSTALL --preclean --no-multiarch --library=celda.buildbin-libdir celda_1.20.0.tar.gz'
>>>>>>> 

* installing *source* package ‘celda’ ...
** using staged installation
** libs
using C compiler: ‘Apple clang version 14.0.0 (clang-1400.0.29.202)’
using C++ compiler: ‘Apple clang version 14.0.0 (clang-1400.0.29.202)’
using SDK: ‘MacOSX11.3.sdk’
clang++ -arch x86_64 -std=gnu++17 -I"/Library/Frameworks/R.framework/Resources/include" -DNDEBUG  -I'/Library/Frameworks/R.framework/Versions/4.4-x86_64/Resources/library/Rcpp/include' -I'/Library/Frameworks/R.framework/Versions/4.4-x86_64/Resources/library/RcppEigen/include' -I/opt/R/x86_64/include     -fPIC  -falign-functions=64 -Wall -g -O2   -c DecontX.cpp -o DecontX.o
DecontX.cpp:321:10: warning: variable 'x' set but not used [-Wunused-but-set-variable]
  double x;
         ^
1 warning generated.
clang++ -arch x86_64 -std=gnu++17 -I"/Library/Frameworks/R.framework/Resources/include" -DNDEBUG  -I'/Library/Frameworks/R.framework/Versions/4.4-x86_64/Resources/library/Rcpp/include' -I'/Library/Frameworks/R.framework/Versions/4.4-x86_64/Resources/library/RcppEigen/include' -I/opt/R/x86_64/include     -fPIC  -falign-functions=64 -Wall -g -O2   -c RcppExports.cpp -o RcppExports.o
clang++ -arch x86_64 -std=gnu++17 -I"/Library/Frameworks/R.framework/Resources/include" -DNDEBUG  -I'/Library/Frameworks/R.framework/Versions/4.4-x86_64/Resources/library/Rcpp/include' -I'/Library/Frameworks/R.framework/Versions/4.4-x86_64/Resources/library/RcppEigen/include' -I/opt/R/x86_64/include     -fPIC  -falign-functions=64 -Wall -g -O2   -c cG_calcGibbsProbY.cpp -o cG_calcGibbsProbY.o
clang++ -arch x86_64 -std=gnu++17 -I"/Library/Frameworks/R.framework/Resources/include" -DNDEBUG  -I'/Library/Frameworks/R.framework/Versions/4.4-x86_64/Resources/library/Rcpp/include' -I'/Library/Frameworks/R.framework/Versions/4.4-x86_64/Resources/library/RcppEigen/include' -I/opt/R/x86_64/include     -fPIC  -falign-functions=64 -Wall -g -O2   -c eigenMatMultInt.cpp -o eigenMatMultInt.o
clang++ -arch x86_64 -std=gnu++17 -I"/Library/Frameworks/R.framework/Resources/include" -DNDEBUG  -I'/Library/Frameworks/R.framework/Versions/4.4-x86_64/Resources/library/Rcpp/include' -I'/Library/Frameworks/R.framework/Versions/4.4-x86_64/Resources/library/RcppEigen/include' -I/opt/R/x86_64/include     -fPIC  -falign-functions=64 -Wall -g -O2   -c matrixNorm.cpp -o matrixNorm.o
clang -arch x86_64 -I"/Library/Frameworks/R.framework/Resources/include" -DNDEBUG  -I'/Library/Frameworks/R.framework/Versions/4.4-x86_64/Resources/library/Rcpp/include' -I'/Library/Frameworks/R.framework/Versions/4.4-x86_64/Resources/library/RcppEigen/include' -I/opt/R/x86_64/include    -fPIC  -falign-functions=64 -Wall -g -O2  -c matrixSums.c -o matrixSums.o
clang++ -arch x86_64 -std=gnu++17 -I"/Library/Frameworks/R.framework/Resources/include" -DNDEBUG  -I'/Library/Frameworks/R.framework/Versions/4.4-x86_64/Resources/library/Rcpp/include' -I'/Library/Frameworks/R.framework/Versions/4.4-x86_64/Resources/library/RcppEigen/include' -I/opt/R/x86_64/include     -fPIC  -falign-functions=64 -Wall -g -O2   -c matrixSumsSparse.cpp -o matrixSumsSparse.o
clang -arch x86_64 -I"/Library/Frameworks/R.framework/Resources/include" -DNDEBUG  -I'/Library/Frameworks/R.framework/Versions/4.4-x86_64/Resources/library/Rcpp/include' -I'/Library/Frameworks/R.framework/Versions/4.4-x86_64/Resources/library/RcppEigen/include' -I/opt/R/x86_64/include    -fPIC  -falign-functions=64 -Wall -g -O2  -c perplexity.c -o perplexity.o
clang++ -arch x86_64 -std=gnu++17 -dynamiclib -Wl,-headerpad_max_install_names -undefined dynamic_lookup -L/Library/Frameworks/R.framework/Resources/lib -L/opt/R/x86_64/lib -o celda.so DecontX.o RcppExports.o cG_calcGibbsProbY.o eigenMatMultInt.o matrixNorm.o matrixSums.o matrixSumsSparse.o perplexity.o -L/Library/Frameworks/R.framework/Resources/lib -lRlapack -L/Library/Frameworks/R.framework/Resources/lib -lRblas -L/opt/gfortran/lib/gcc/x86_64-apple-darwin20.0/12.2.0 -L/opt/gfortran/lib -lgfortran -lquadmath -F/Library/Frameworks/R.framework/.. -framework R -Wl,-framework -Wl,CoreFoundation
installing to /Users/biocbuild/bbs-3.19-bioc/meat/celda.buildbin-libdir/00LOCK-celda/00new/celda/libs
** R
** data
*** moving datasets to lazyload DB
** inst
** byte-compile and prepare package for lazy loading
** help
*** installing help indices
** building package indices
** installing vignettes
** testing if installed package can be loaded from temporary location
** checking absolute paths in shared objects and dynamic libraries
** testing if installed package can be loaded from final location
** testing if installed package keeps a record of temporary installation path
* DONE (celda)


>>>>>>> 
>>>>>>> FIXING PATHS TO DYNAMIC LIBRARIES FOR celda.buildbin-libdir/celda/libs/celda.so
>>>>>>> 

>>>>>>> Paths before fix:
celda.buildbin-libdir/celda/libs/celda.so:
	celda.so (compatibility version 0.0.0, current version 0.0.0)
	/Library/Frameworks/R.framework/Versions/4.4-x86_64/Resources/lib/libRlapack.dylib (compatibility version 4.4.0, current version 4.4.0)
	/Library/Frameworks/R.framework/Versions/4.4-x86_64/Resources/lib/libRblas.dylib (compatibility version 0.0.0, current version 0.0.0)
	/opt/gfortran/lib/gcc/x86_64-apple-darwin20.0/12.2.0/libgfortran.5.dylib (compatibility version 6.0.0, current version 6.0.0)
	/opt/gfortran/lib/gcc/x86_64-apple-darwin20.0/12.2.0/libquadmath.0.dylib (compatibility version 1.0.0, current version 1.0.0)
	/Library/Frameworks/R.framework/Versions/4.4-x86_64/Resources/lib/libR.dylib (compatibility version 4.4.0, current version 4.4.0)
	/System/Library/Frameworks/CoreFoundation.framework/Versions/A/CoreFoundation (compatibility version 150.0.0, current version 1775.118.101)
	/usr/lib/libc++.1.dylib (compatibility version 1.0.0, current version 905.6.0)
	/usr/lib/libSystem.B.dylib (compatibility version 1.0.0, current version 1292.100.5)

>>>>>>> Fix with install_name_tool:
install_name_tool -change "/usr/local/lib/libgcc_s.1.1.dylib" "/Library/Frameworks/R.framework/Versions/4.4-x86_64/Resources/lib/libgcc_s.1.1.dylib" "celda.buildbin-libdir/celda/libs/celda.so"
install_name_tool -change "/usr/local/lib/libgfortran.5.dylib" "/Library/Frameworks/R.framework/Versions/4.4-x86_64/Resources/lib/libgfortran.5.dylib" "celda.buildbin-libdir/celda/libs/celda.so"
install_name_tool -change "/usr/local/lib/libquadmath.0.dylib" "/Library/Frameworks/R.framework/Versions/4.4-x86_64/Resources/lib/libquadmath.0.dylib" "celda.buildbin-libdir/celda/libs/celda.so"
install_name_tool -change "/opt/gfortran/lib/gcc/x86_64-apple-darwin20.0/12.2.0/libgfortran.5.dylib" "/Library/Frameworks/R.framework/Versions/4.4-x86_64/Resources/lib/libgfortran.5.dylib" "celda.buildbin-libdir/celda/libs/celda.so"
install_name_tool -change "/opt/gfortran/lib/gcc/x86_64-apple-darwin20.0/12.2.0/libquadmath.0.dylib" "/Library/Frameworks/R.framework/Versions/4.4-x86_64/Resources/lib/libquadmath.0.dylib" "celda.buildbin-libdir/celda/libs/celda.so"

>>>>>>> Paths after fix:
celda.buildbin-libdir/celda/libs/celda.so:
	celda.so (compatibility version 0.0.0, current version 0.0.0)
	/Library/Frameworks/R.framework/Versions/4.4-x86_64/Resources/lib/libRlapack.dylib (compatibility version 4.4.0, current version 4.4.0)
	/Library/Frameworks/R.framework/Versions/4.4-x86_64/Resources/lib/libRblas.dylib (compatibility version 0.0.0, current version 0.0.0)
	/Library/Frameworks/R.framework/Versions/4.4-x86_64/Resources/lib/libgfortran.5.dylib (compatibility version 6.0.0, current version 6.0.0)
	/Library/Frameworks/R.framework/Versions/4.4-x86_64/Resources/lib/libquadmath.0.dylib (compatibility version 1.0.0, current version 1.0.0)
	/Library/Frameworks/R.framework/Versions/4.4-x86_64/Resources/lib/libR.dylib (compatibility version 4.4.0, current version 4.4.0)
	/System/Library/Frameworks/CoreFoundation.framework/Versions/A/CoreFoundation (compatibility version 150.0.0, current version 1775.118.101)
	/usr/lib/libc++.1.dylib (compatibility version 1.0.0, current version 905.6.0)
	/usr/lib/libSystem.B.dylib (compatibility version 1.0.0, current version 1292.100.5)