Back to Multiple platform build/check report for BioC 3.12
AB[C]DEFGHIJKLMNOPQRSTUVWXYZ

BUILD report for cancerclass on merida1

This page was generated on 2021-01-25 11:55:14 -0500 (Mon, 25 Jan 2021).

TO THE DEVELOPERS/MAINTAINERS OF THE cancerclass PACKAGE: Please make sure to use the following settings in order to reproduce any error or warning you see on this page.
Package 228/1974HostnameOS / ArchINSTALLBUILDCHECKBUILD BIN
cancerclass 1.34.0
Daniel Kosztyla
Snapshot Date: 2021-01-24 14:40:16 -0500 (Sun, 24 Jan 2021)
URL: https://git.bioconductor.org/packages/cancerclass
Branch: RELEASE_3_12
Last Commit: fcec215
Last Changed Date: 2020-10-27 10:45:50 -0500 (Tue, 27 Oct 2020)
malbec1 Linux (Ubuntu 18.04.5 LTS) / x86_64  OK  OK  OK UNNEEDED, same version exists in internal repository
nebbiolo1 Linux (Ubuntu 20.04.1 LTS) / x86_64  OK  OK  OK 
tokay1 Windows Server 2012 R2 Standard / x64  OK  OK  OK  OK UNNEEDED, same version exists in internal repository
merida1 macOS 10.14.6 Mojave / x86_64  OK [ OK ] WARNINGS  OK UNNEEDED, same version exists in internal repository

Summary

Package: cancerclass
Version: 1.34.0
Command: /Library/Frameworks/R.framework/Versions/Current/Resources/bin/R CMD build --keep-empty-dirs --no-resave-data cancerclass
StartedAt: 2021-01-24 18:34:34 -0500 (Sun, 24 Jan 2021)
EndedAt: 2021-01-24 18:35:08 -0500 (Sun, 24 Jan 2021)
EllapsedTime: 34.4 seconds
RetCode: 0
Status:  OK 
PackageFile: cancerclass_1.34.0.tar.gz
PackageFileSize: 1.482 MiB

Command output

##############################################################################
##############################################################################
###
### Running command:
###
###   /Library/Frameworks/R.framework/Versions/Current/Resources/bin/R CMD build --keep-empty-dirs --no-resave-data cancerclass
###
##############################################################################
##############################################################################


* checking for file ‘cancerclass/DESCRIPTION’ ... OK
* preparing ‘cancerclass’:
* checking DESCRIPTION meta-information ... OK
* cleaning src
* installing the package to build vignettes
* creating vignettes ... OK
* cleaning src
* checking for LF line-endings in source and make files and shell scripts
* checking for empty or unneeded directories
* looking to see if a ‘data/datalist’ file should be added
* building ‘cancerclass_1.34.0.tar.gz’