Back to Multiple platform build/check report for BioC 3.19: simplified long |
|
This page was generated on 2024-05-30 11:35:27 -0400 (Thu, 30 May 2024).
Hostname | OS | Arch (*) | R version | Installed pkgs |
---|---|---|---|---|
nebbiolo1 | Linux (Ubuntu 22.04.3 LTS) | x86_64 | 4.4.0 (2024-04-24) -- "Puppy Cup" | 4753 |
lconway | macOS 12.7.1 Monterey | x86_64 | 4.4.0 (2024-04-24) -- "Puppy Cup" | 4518 |
Click on any hostname to see more info about the system (e.g. compilers) (*) as reported by 'uname -p', except on Windows and Mac OS X |
Package 237/2300 | Hostname | OS / Arch | INSTALL | BUILD | CHECK | BUILD BIN | ||||||||
brainflowprobes 1.18.0 (landing page) Amanda Price
| nebbiolo1 | Linux (Ubuntu 22.04.3 LTS) / x86_64 | OK | OK | ERROR | |||||||||
lconway | macOS 12.7.1 Monterey / x86_64 | OK | OK | ERROR | OK | |||||||||
kjohnson3 | macOS 13.6.5 Ventura / arm64 | see weekly results here | ||||||||||||
To the developers/maintainers of the brainflowprobes package: - Allow up to 24 hours (and sometimes 48 hours) for your latest push to git@git.bioconductor.org:packages/brainflowprobes.git to reflect on this report. See Troubleshooting Build Report for more information. - Use the following Renviron settings to reproduce errors and warnings. - If 'R CMD check' started to fail recently on the Linux builder(s) over a missing dependency, add the missing dependency to 'Suggests:' in your DESCRIPTION file. See Renviron.bioc for more information. |
Package: brainflowprobes |
Version: 1.18.0 |
Command: /Library/Frameworks/R.framework/Resources/bin/R CMD build --keep-empty-dirs --no-resave-data brainflowprobes |
StartedAt: 2024-05-29 16:07:59 -0400 (Wed, 29 May 2024) |
EndedAt: 2024-05-29 16:09:38 -0400 (Wed, 29 May 2024) |
EllapsedTime: 98.8 seconds |
RetCode: 0 |
Status: OK |
PackageFile: brainflowprobes_1.18.0.tar.gz |
PackageFileSize: 2.249 MiB |
############################################################################## ############################################################################## ### ### Running command: ### ### /Library/Frameworks/R.framework/Resources/bin/R CMD build --keep-empty-dirs --no-resave-data brainflowprobes ### ############################################################################## ############################################################################## * checking for file ‘brainflowprobes/DESCRIPTION’ ... OK * preparing ‘brainflowprobes’: * checking DESCRIPTION meta-information ... OK * installing the package to build vignettes * creating vignettes ... OK * checking for LF line-endings in source and make files and shell scripts * checking for empty or unneeded directories * building ‘brainflowprobes_1.18.0.tar.gz’