Index of /checkResults/release/bioc-LATEST/benchdamic/raw-results

[ICO]NameLast modifiedSizeDescription

[DIR]Parent Directory  -  
[   ]info.dcf24-May-2022 01:07 278  
[DIR]merida1/24-May-2022 01:07 -  
[DIR]nebbiolo1/24-May-2022 01:04 -  
[DIR]palomino3/24-May-2022 01:06 -  
[DIR]riesling1/19-Mar-2022 00:07 -