Index of /checkResults/release/bioc-LATEST/benchdamic/raw-results/merida1

[ICO]NameLast modifiedSizeDescription

[DIR]Parent Directory  -  
[TXT]buildbin-out.txt02-Jul-2022 01:07 1.5K 
[   ]buildbin-summary.dcf02-Jul-2022 01:07 546  
[TXT]buildsrc-out.txt02-Jul-2022 01:07 827  
[   ]buildsrc-summary.dcf02-Jul-2022 01:07 435  
[TXT]checksrc-out.txt02-Jul-2022 01:07 3.5K 
[   ]checksrc-summary.dcf02-Jul-2022 01:07 454  
[TXT]install-out.txt02-Jul-2022 01:07 1.3K 
[   ]install-summary.dcf02-Jul-2022 01:07 275