![]() | Name | Last modified | Size | Description |
---|---|---|---|---|
![]() | Parent Directory | - | ||
![]() | buildbin-out.txt | 02-Jul-2022 01:06 | 1.4K | |
![]() | buildbin-summary.dcf | 02-Jul-2022 01:06 | 530 | |
![]() | buildsrc-out.txt | 02-Jul-2022 01:06 | 853 | |
![]() | buildsrc-summary.dcf | 02-Jul-2022 01:06 | 463 | |
![]() | checksrc-out.txt | 02-Jul-2022 01:06 | 3.4K | |
![]() | checksrc-summary.dcf | 02-Jul-2022 01:06 | 457 | |
![]() | install-out.txt | 02-Jul-2022 01:06 | 1.2K | |
![]() | install-summary.dcf | 02-Jul-2022 01:06 | 273 | |