Back to Multiple platform build/check report for BioC 3.12
[A]BCDEFGHIJKLMNOPQRSTUVWXYZ

BUILD BIN report for a4Preproc on merida1

This page was generated on 2021-04-17 12:10:11 -0400 (Sat, 17 Apr 2021).

To the developers/maintainers of the a4Preproc package:
Please make sure to use the following settings in order to reproduce any error or warning you see on this page.
Package 5/1974HostnameOS / ArchINSTALLBUILDCHECKBUILD BIN
a4Preproc 1.38.0  (landing page)
Laure Cougnaud
Snapshot Date: 2021-04-16 14:50:12 -0400 (Fri, 16 Apr 2021)
URL: https://git.bioconductor.org/packages/a4Preproc
Branch: RELEASE_3_12
Last Commit: c93c223
Last Changed Date: 2020-10-27 10:41:15 -0400 (Tue, 27 Oct 2020)
malbec1Linux (Ubuntu 18.04.5 LTS) / x86_64  OK    OK    OK  UNNEEDED, same version exists in internal repository
tokay1Windows Server 2012 R2 Standard / x64  OK    OK    OK    OK  UNNEEDED, same version exists in internal repository
merida1macOS 10.14.6 Mojave / x86_64  OK    OK    OK    OK  UNNEEDED, same version exists in internal repository

Summary

Package: a4Preproc
Version: 1.38.0
Command: rm -rf a4Preproc.buildbin-libdir && mkdir a4Preproc.buildbin-libdir && /Users/biocbuild/BBS/utils/build-universal.sh a4Preproc_1.38.0.tar.gz /Library/Frameworks/R.framework/Versions/Current/Resources/bin/R a4Preproc.buildbin-libdir
StartedAt: 2021-04-17 06:07:00 -0400 (Sat, 17 Apr 2021)
EndedAt: 2021-04-17 06:07:54 -0400 (Sat, 17 Apr 2021)
EllapsedTime: 53.8 seconds
RetCode: 0
Status:   OK  
PackageFile: a4Preproc_1.38.0.tgz
PackageFileSize: 284 KiB

Command output

##############################################################################
##############################################################################
###
### Running command:
###
###   rm -rf a4Preproc.buildbin-libdir && mkdir a4Preproc.buildbin-libdir && /Users/biocbuild/BBS/utils/build-universal.sh a4Preproc_1.38.0.tar.gz /Library/Frameworks/R.framework/Versions/Current/Resources/bin/R a4Preproc.buildbin-libdir
###
##############################################################################
##############################################################################


>>>>>>> 
>>>>>>> INSTALLATION WITH 'R CMD INSTALL --preclean --no-multiarch --library=a4Preproc.buildbin-libdir a4Preproc_1.38.0.tar.gz'
>>>>>>> 

* installing *source* package ‘a4Preproc’ ...
** using staged installation
** R
** inst
** byte-compile and prepare package for lazy loading
** help
*** installing help indices
** building package indices
** installing vignettes
** testing if installed package can be loaded from temporary location
** testing if installed package can be loaded from final location
** testing if installed package keeps a record of temporary installation path
* DONE (a4Preproc)