Back to Multiple platform build/check report for BioC 3.19:   simplified   long
ABCDEFGHIJKLMNOPQRSTU[V]WXYZ

This page was generated on 2024-05-25 11:36:02 -0400 (Sat, 25 May 2024).

HostnameOSArch (*)R versionInstalled pkgs
nebbiolo1Linux (Ubuntu 22.04.3 LTS)x86_644.4.0 (2024-04-24) -- "Puppy Cup" 4751
lconwaymacOS 12.7.1 Montereyx86_644.4.0 (2024-04-24) -- "Puppy Cup" 4516
Click on any hostname to see more info about the system (e.g. compilers)      (*) as reported by 'uname -p', except on Windows and Mac OS X

Package 2260/2300HostnameOS / ArchINSTALLBUILDCHECKBUILD BIN
VennDetail 1.20.0  (landing page)
Kai Guo
Snapshot Date: 2024-05-24 14:00:07 -0400 (Fri, 24 May 2024)
git_url: https://git.bioconductor.org/packages/VennDetail
git_branch: RELEASE_3_19
git_last_commit: 9c42b64
git_last_commit_date: 2024-04-30 11:15:13 -0400 (Tue, 30 Apr 2024)
nebbiolo1Linux (Ubuntu 22.04.3 LTS) / x86_64  OK    OK    OK  UNNEEDED, same version is already published
lconwaymacOS 12.7.1 Monterey / x86_64  OK    OK    OK    OK  UNNEEDED, same version is already published
kjohnson3macOS 13.6.5 Ventura / arm64see weekly results here

BUILD BIN results for VennDetail on lconway


To the developers/maintainers of the VennDetail package:
- Allow up to 24 hours (and sometimes 48 hours) for your latest push to git@git.bioconductor.org:packages/VennDetail.git to reflect on this report. See Troubleshooting Build Report for more information.
- Use the following Renviron settings to reproduce errors and warnings.
- If 'R CMD check' started to fail recently on the Linux builder(s) over a missing dependency, add the missing dependency to 'Suggests:' in your DESCRIPTION file. See Renviron.bioc for more information.

raw results


Summary

Package: VennDetail
Version: 1.20.0
Command: rm -rf VennDetail.buildbin-libdir && mkdir VennDetail.buildbin-libdir && /Users/biocbuild/BBS/utils/build-universal.sh VennDetail_1.20.0.tar.gz /Library/Frameworks/R.framework/Resources/bin/R VennDetail.buildbin-libdir
StartedAt: 2024-05-25 01:47:36 -0400 (Sat, 25 May 2024)
EndedAt: 2024-05-25 01:47:47 -0400 (Sat, 25 May 2024)
EllapsedTime: 10.5 seconds
RetCode: 0
Status:   OK  
PackageFile: VennDetail_1.20.0.tgz
PackageFileSize: 505.6 KiB

Command output

##############################################################################
##############################################################################
###
### Running command:
###
###   rm -rf VennDetail.buildbin-libdir && mkdir VennDetail.buildbin-libdir && /Users/biocbuild/BBS/utils/build-universal.sh VennDetail_1.20.0.tar.gz /Library/Frameworks/R.framework/Resources/bin/R VennDetail.buildbin-libdir
###
##############################################################################
##############################################################################


>>>>>>> 
>>>>>>> INSTALLATION WITH 'R CMD INSTALL --preclean --no-multiarch --library=VennDetail.buildbin-libdir VennDetail_1.20.0.tar.gz'
>>>>>>> 

* installing *source* package ‘VennDetail’ ...
** using staged installation
** R
** data
*** moving datasets to lazyload DB
** inst
** byte-compile and prepare package for lazy loading
** help
*** installing help indices
** building package indices
** installing vignettes
** testing if installed package can be loaded from temporary location
** testing if installed package can be loaded from final location
** testing if installed package keeps a record of temporary installation path
* DONE (VennDetail)