Index of /checkResults/release/bioc-LATEST/TurboNorm/raw-results

[ICO]NameLast modifiedSizeDescription

[DIR]Parent Directory  -  
[   ]info.dcf22-Feb-2024 01:38 843  
[DIR]kunpeng2/03-Nov-2023 00:41 -  
[DIR]lconway/22-Feb-2024 01:38 -  
[DIR]nebbiolo2/22-Feb-2024 01:36 -  
[DIR]palomino4/22-Feb-2024 01:37 -