![]() | Name | Last modified | Size | Description |
---|---|---|---|---|
![]() | Parent Directory | - | ||
![]() | buildsrc-out.txt | 24-Sep-2023 00:35 | 907 | |
![]() | buildsrc-summary.dcf | 24-Sep-2023 00:35 | 423 | |
![]() | checksrc-out.txt | 24-Sep-2023 00:35 | 118K | |
![]() | checksrc-summary.dcf | 24-Sep-2023 00:35 | 426 | |
![]() | install-out.txt | 24-Sep-2023 00:35 | 1.7K | |
![]() | install-summary.dcf | 24-Sep-2023 00:35 | 262 | |