![]() | Name | Last modified | Size | Description |
---|---|---|---|---|
![]() | Parent Directory | - | ||
![]() | buildbin-out.txt | 24-Sep-2023 00:36 | 2.0K | |
![]() | buildbin-summary.dcf | 24-Sep-2023 00:36 | 527 | |
![]() | buildsrc-out.txt | 24-Sep-2023 00:36 | 941 | |
![]() | buildsrc-summary.dcf | 24-Sep-2023 00:36 | 460 | |
![]() | checksrc-out.txt | 24-Sep-2023 00:36 | 5.3K | |
![]() | checksrc-summary.dcf | 24-Sep-2023 00:36 | 454 | |
![]() | install-out.txt | 24-Sep-2023 00:36 | 1.9K | |
![]() | install-summary.dcf | 24-Sep-2023 00:36 | 272 | |