Back to Multiple platform build/check report for BioC 3.19:   simplified   long
ABCDEFGHIJKLMNOPQRS[T]UVWXYZ

This page was generated on 2024-05-20 11:38:34 -0400 (Mon, 20 May 2024).

HostnameOSArch (*)R versionInstalled pkgs
nebbiolo1Linux (Ubuntu 22.04.3 LTS)x86_644.4.0 (2024-04-24) -- "Puppy Cup" 4751
palomino3Windows Server 2022 Datacenterx644.4.0 (2024-04-24 ucrt) -- "Puppy Cup" 4485
lconwaymacOS 12.7.1 Montereyx86_644.4.0 (2024-04-24) -- "Puppy Cup" 4515
Click on any hostname to see more info about the system (e.g. compilers)      (*) as reported by 'uname -p', except on Windows and Mac OS X

Package 2222/2300HostnameOS / ArchINSTALLBUILDCHECKBUILD BIN
TurboNorm 1.52.0  (landing page)
Maarten van Iterson
Snapshot Date: 2024-05-19 14:00:13 -0400 (Sun, 19 May 2024)
git_url: https://git.bioconductor.org/packages/TurboNorm
git_branch: RELEASE_3_19
git_last_commit: 79a05c5
git_last_commit_date: 2024-04-30 10:23:16 -0400 (Tue, 30 Apr 2024)
nebbiolo1Linux (Ubuntu 22.04.3 LTS) / x86_64  OK    OK    OK  UNNEEDED, same version is already published
palomino3Windows Server 2022 Datacenter / x64  OK    OK    OK    OK  UNNEEDED, same version is already published
lconwaymacOS 12.7.1 Monterey / x86_64  OK    OK    OK    OK  UNNEEDED, same version is already published
kjohnson3macOS 13.6.5 Ventura / arm64see weekly results here

BUILD BIN results for TurboNorm on lconway


To the developers/maintainers of the TurboNorm package:
- Allow up to 24 hours (and sometimes 48 hours) for your latest push to git@git.bioconductor.org:packages/TurboNorm.git to reflect on this report. See Troubleshooting Build Report for more information.
- Use the following Renviron settings to reproduce errors and warnings.
- If 'R CMD check' started to fail recently on the Linux builder(s) over a missing dependency, add the missing dependency to 'Suggests:' in your DESCRIPTION file. See Renviron.bioc for more information.

raw results


Summary

Package: TurboNorm
Version: 1.52.0
Command: rm -rf TurboNorm.buildbin-libdir && mkdir TurboNorm.buildbin-libdir && /Users/biocbuild/BBS/utils/build-universal.sh TurboNorm_1.52.0.tar.gz /Library/Frameworks/R.framework/Resources/bin/R TurboNorm.buildbin-libdir
StartedAt: 2024-05-20 01:51:15 -0400 (Mon, 20 May 2024)
EndedAt: 2024-05-20 01:51:25 -0400 (Mon, 20 May 2024)
EllapsedTime: 10.5 seconds
RetCode: 0
Status:   OK  
PackageFile: TurboNorm_1.52.0.tgz
PackageFileSize: 2.049 MiB

Command output

##############################################################################
##############################################################################
###
### Running command:
###
###   rm -rf TurboNorm.buildbin-libdir && mkdir TurboNorm.buildbin-libdir && /Users/biocbuild/BBS/utils/build-universal.sh TurboNorm_1.52.0.tar.gz /Library/Frameworks/R.framework/Resources/bin/R TurboNorm.buildbin-libdir
###
##############################################################################
##############################################################################


>>>>>>> 
>>>>>>> INSTALLATION WITH 'R CMD INSTALL --preclean --no-multiarch --library=TurboNorm.buildbin-libdir TurboNorm_1.52.0.tar.gz'
>>>>>>> 

* installing *source* package ‘TurboNorm’ ...
** using staged installation
** libs
using C compiler: ‘Apple clang version 14.0.0 (clang-1400.0.29.202)’
using SDK: ‘MacOSX11.3.sdk’
clang -arch x86_64 -I"/Library/Frameworks/R.framework/Resources/include" -DNDEBUG   -I/opt/R/x86_64/include    -fPIC  -falign-functions=64 -Wall -g -O2  -c Rinit.c -o Rinit.o
Rinit.c:11:3: warning: suggest braces around initialization of subobject [-Wmissing-braces]
  NULL
  ^~~~
  {   }
/Library/Developer/CommandLineTools/usr/lib/clang/14.0.0/include/stddef.h:89:16: note: expanded from macro 'NULL'
#  define NULL ((void*)0)
               ^~~~~~~~~~
1 warning generated.
clang -arch x86_64 -I"/Library/Frameworks/R.framework/Resources/include" -DNDEBUG   -I/opt/R/x86_64/include    -fPIC  -falign-functions=64 -Wall -g -O2  -c binners.c -o binners.o
clang -arch x86_64 -dynamiclib -Wl,-headerpad_max_install_names -undefined dynamic_lookup -L/Library/Frameworks/R.framework/Resources/lib -L/opt/R/x86_64/lib -o TurboNorm.so Rinit.o binners.o -F/Library/Frameworks/R.framework/.. -framework R -Wl,-framework -Wl,CoreFoundation
installing to /Users/biocbuild/bbs-3.19-bioc/meat/TurboNorm.buildbin-libdir/00LOCK-TurboNorm/00new/TurboNorm/libs
** R
** data
** inst
** byte-compile and prepare package for lazy loading
** help
*** installing help indices
** building package indices
** installing vignettes
** testing if installed package can be loaded from temporary location
** checking absolute paths in shared objects and dynamic libraries
** testing if installed package can be loaded from final location
** testing if installed package keeps a record of temporary installation path
* DONE (TurboNorm)


>>>>>>> 
>>>>>>> FIXING PATHS TO DYNAMIC LIBRARIES FOR TurboNorm.buildbin-libdir/TurboNorm/libs/TurboNorm.so
>>>>>>> 

>>>>>>> Paths before fix:
TurboNorm.buildbin-libdir/TurboNorm/libs/TurboNorm.so:
	TurboNorm.so (compatibility version 0.0.0, current version 0.0.0)
	/Library/Frameworks/R.framework/Versions/4.4-x86_64/Resources/lib/libR.dylib (compatibility version 4.4.0, current version 4.4.0)
	/System/Library/Frameworks/CoreFoundation.framework/Versions/A/CoreFoundation (compatibility version 150.0.0, current version 1775.118.101)
	/usr/lib/libSystem.B.dylib (compatibility version 1.0.0, current version 1292.100.5)

>>>>>>> Fix with install_name_tool:
install_name_tool -change "/usr/local/lib/libgcc_s.1.1.dylib" "/Library/Frameworks/R.framework/Versions/4.4-x86_64/Resources/lib/libgcc_s.1.1.dylib" "TurboNorm.buildbin-libdir/TurboNorm/libs/TurboNorm.so"
install_name_tool -change "/usr/local/lib/libgfortran.5.dylib" "/Library/Frameworks/R.framework/Versions/4.4-x86_64/Resources/lib/libgfortran.5.dylib" "TurboNorm.buildbin-libdir/TurboNorm/libs/TurboNorm.so"
install_name_tool -change "/usr/local/lib/libquadmath.0.dylib" "/Library/Frameworks/R.framework/Versions/4.4-x86_64/Resources/lib/libquadmath.0.dylib" "TurboNorm.buildbin-libdir/TurboNorm/libs/TurboNorm.so"

>>>>>>> Paths after fix:
TurboNorm.buildbin-libdir/TurboNorm/libs/TurboNorm.so:
	TurboNorm.so (compatibility version 0.0.0, current version 0.0.0)
	/Library/Frameworks/R.framework/Versions/4.4-x86_64/Resources/lib/libR.dylib (compatibility version 4.4.0, current version 4.4.0)
	/System/Library/Frameworks/CoreFoundation.framework/Versions/A/CoreFoundation (compatibility version 150.0.0, current version 1775.118.101)
	/usr/lib/libSystem.B.dylib (compatibility version 1.0.0, current version 1292.100.5)