Back to Multiple platform build/check report for BioC 3.16:   simplified   long
ABCDEFGHIJKLMNOPQR[S]TUVWXYZ

This page was generated on 2023-03-24 11:06:57 -0400 (Fri, 24 Mar 2023).

HostnameOSArch (*)R versionInstalled pkgs
nebbiolo2Linux (Ubuntu 20.04.5 LTS)x86_644.2.3 (2023-03-15) -- "Shortstop Beagle" 4286
palomino4Windows Server 2022 Datacenterx644.2.3 (2023-03-15 ucrt) -- "Shortstop Beagle" 4276
lconwaymacOS 12.5.1 Montereyx86_644.2.3 (2023-03-15) -- "Shortstop Beagle" 4303
Click on any hostname to see more info about the system (e.g. compilers)      (*) as reported by 'uname -p', except on Windows and Mac OS X

BUILD results for SplicingGraphs on lconway


To the developers/maintainers of the SplicingGraphs package:
- Please allow up to 24 hours (and sometimes 48 hours) for your latest push to git@git.bioconductor.org:packages/SplicingGraphs.git to
reflect on this report. See How and When does the builder pull? When will my changes propagate? for more information.
- Make sure to use the following settings in order to reproduce any error or warning you see on this page.

raw results

Package 1947/2183HostnameOS / ArchINSTALLBUILDCHECKBUILD BIN
SplicingGraphs 1.38.0  (landing page)
H. Pagès
Snapshot Date: 2023-03-22 14:00:04 -0400 (Wed, 22 Mar 2023)
git_url: https://git.bioconductor.org/packages/SplicingGraphs
git_branch: RELEASE_3_16
git_last_commit: 37dc46c
git_last_commit_date: 2022-11-01 11:08:13 -0400 (Tue, 01 Nov 2022)
nebbiolo2Linux (Ubuntu 20.04.5 LTS) / x86_64  OK    OK    ERROR  
palomino4Windows Server 2022 Datacenter / x64  OK    OK    ERROR    OK  
lconwaymacOS 12.5.1 Monterey / x86_64  OK    OK    ERROR    OK  

Summary

Package: SplicingGraphs
Version: 1.38.0
Command: /Library/Frameworks/R.framework/Resources/bin/R CMD build --keep-empty-dirs --no-resave-data SplicingGraphs
StartedAt: 2023-03-22 18:12:50 -0400 (Wed, 22 Mar 2023)
EndedAt: 2023-03-22 18:15:04 -0400 (Wed, 22 Mar 2023)
EllapsedTime: 134.4 seconds
RetCode: 0
Status:   OK  
PackageFile: SplicingGraphs_1.38.0.tar.gz
PackageFileSize: 46.1 MiB

Command output

##############################################################################
##############################################################################
###
### Running command:
###
###   /Library/Frameworks/R.framework/Resources/bin/R CMD build --keep-empty-dirs --no-resave-data SplicingGraphs
###
##############################################################################
##############################################################################


* checking for file ‘SplicingGraphs/DESCRIPTION’ ... OK
* preparing ‘SplicingGraphs’:
* checking DESCRIPTION meta-information ... OK
* installing the package to build vignettes
* creating vignettes ... OK
* checking for LF line-endings in source and make files and shell scripts
* checking for empty or unneeded directories
* building ‘SplicingGraphs_1.38.0.tar.gz’