Back to Multiple platform build/check report for BioC 3.16
ABCDEFGHIJKLMNOPQR[S]TUVWXYZ

This page was generated on 2023-01-28 11:07:33 -0500 (Sat, 28 Jan 2023).

HostnameOSArch (*)R versionInstalled pkgs
nebbiolo2Linux (Ubuntu 20.04.5 LTS)x86_644.2.2 (2022-10-31) -- "Innocent and Trusting" 4510
palomino4Windows Server 2022 Datacenterx644.2.2 (2022-10-31 ucrt) -- "Innocent and Trusting" 4288
lconwaymacOS 12.5.1 Montereyx86_644.2.2 (2022-10-31) -- "Innocent and Trusting" 4317
Click on any hostname to see more info about the system (e.g. compilers)      (*) as reported by 'uname -p', except on Windows and Mac OS X

BUILD BIN results for SpectralTAD on palomino4


To the developers/maintainers of the SpectralTAD package:
- Please allow up to 24 hours (and sometimes 48 hours) for your latest push to git@git.bioconductor.org:packages/SpectralTAD.git to
reflect on this report. See How and When does the builder pull? When will my changes propagate? for more information.
- Make sure to use the following settings in order to reproduce any error or warning you see on this page.

raw results

Package 1935/2183HostnameOS / ArchINSTALLBUILDCHECKBUILD BIN
SpectralTAD 1.14.0  (landing page)
Kellen Cresswell
Snapshot Date: 2023-01-27 14:00:04 -0500 (Fri, 27 Jan 2023)
git_url: https://git.bioconductor.org/packages/SpectralTAD
git_branch: RELEASE_3_16
git_last_commit: 8970942
git_last_commit_date: 2022-11-01 11:19:18 -0500 (Tue, 01 Nov 2022)
nebbiolo2Linux (Ubuntu 20.04.5 LTS) / x86_64  OK    OK    OK  UNNEEDED, same version is already published
palomino4Windows Server 2022 Datacenter / x64  OK    OK    OK    OK  UNNEEDED, same version is already published
lconwaymacOS 12.5.1 Monterey / x86_64  OK    OK    OK    OK  UNNEEDED, same version is already published

Summary

Package: SpectralTAD
Version: 1.14.0
Command: rm -rf SpectralTAD.buildbin-libdir && mkdir SpectralTAD.buildbin-libdir && F:\biocbuild\bbs-3.16-bioc\R\bin\R.exe CMD INSTALL --build --library=SpectralTAD.buildbin-libdir SpectralTAD_1.14.0.tar.gz
StartedAt: 2023-01-28 09:18:31 -0500 (Sat, 28 Jan 2023)
EndedAt: 2023-01-28 09:18:58 -0500 (Sat, 28 Jan 2023)
EllapsedTime: 27.3 seconds
RetCode: 0
Status:   OK  
PackageFile: SpectralTAD_1.14.0.zip
PackageFileSize: 1.48 MiB

Command output

##############################################################################
##############################################################################
###
### Running command:
###
###   rm -rf SpectralTAD.buildbin-libdir && mkdir SpectralTAD.buildbin-libdir && F:\biocbuild\bbs-3.16-bioc\R\bin\R.exe CMD INSTALL --build --library=SpectralTAD.buildbin-libdir SpectralTAD_1.14.0.tar.gz
###
##############################################################################
##############################################################################


* installing *source* package 'SpectralTAD' ...
** using staged installation
** R
** data
** inst
** byte-compile and prepare package for lazy loading
** help
*** installing help indices
** building package indices
** installing vignettes
** testing if installed package can be loaded from temporary location
** testing if installed package can be loaded from final location
** testing if installed package keeps a record of temporary installation path
* MD5 sums
packaged installation of 'SpectralTAD' as SpectralTAD_1.14.0.zip
* DONE (SpectralTAD)