Back to Multiple platform build/check report for BioC 3.18:   simplified   long
ABCDEFGHIJKLMNOPQR[S]TUVWXYZ

This page was generated on 2024-02-20 11:38:22 -0500 (Tue, 20 Feb 2024).

HostnameOSArch (*)R versionInstalled pkgs
nebbiolo2Linux (Ubuntu 22.04.3 LTS)x86_644.3.2 Patched (2023-11-13 r85521) -- "Eye Holes" 4690
palomino4Windows Server 2022 Datacenterx644.3.2 (2023-10-31 ucrt) -- "Eye Holes" 4443
lconwaymacOS 12.7.1 Montereyx86_644.3.2 Patched (2023-11-01 r85457) -- "Eye Holes" 4464
Click on any hostname to see more info about the system (e.g. compilers)      (*) as reported by 'uname -p', except on Windows and Mac OS X

Package 1972/2266HostnameOS / ArchINSTALLBUILDCHECKBUILD BIN
SingleMoleculeFootprinting 1.10.0  (landing page)
Guido Barzaghi
Snapshot Date: 2024-02-19 14:05:07 -0500 (Mon, 19 Feb 2024)
git_url: https://git.bioconductor.org/packages/SingleMoleculeFootprinting
git_branch: RELEASE_3_18
git_last_commit: 44ae1a2
git_last_commit_date: 2023-10-24 11:34:06 -0500 (Tue, 24 Oct 2023)
nebbiolo2Linux (Ubuntu 22.04.3 LTS) / x86_64  OK    OK    OK  UNNEEDED, same version is already published
palomino4Windows Server 2022 Datacenter / x64  OK    OK    OK    OK  UNNEEDED, same version is already published
lconwaymacOS 12.7.1 Monterey / x86_64  OK    OK    OK    OK  UNNEEDED, same version is already published
kjohnson1macOS 13.6.1 Ventura / arm64see weekly results here

CHECK results for SingleMoleculeFootprinting on lconway


To the developers/maintainers of the SingleMoleculeFootprinting package:
- Allow up to 24 hours (and sometimes 48 hours) for your latest push to git@git.bioconductor.org:packages/SingleMoleculeFootprinting.git to reflect on this report. See Troubleshooting Build Report for more information.
- Use the following Renviron settings to reproduce errors and warnings.
- If 'R CMD check' started to fail recently on the Linux builder(s) over a missing dependency, add the missing dependency to 'Suggests:' in your DESCRIPTION file. See Renviron.bioc for more information.

raw results


Summary

Package: SingleMoleculeFootprinting
Version: 1.10.0
Command: /Library/Frameworks/R.framework/Resources/bin/R CMD check --install=check:SingleMoleculeFootprinting.install-out.txt --library=/Library/Frameworks/R.framework/Resources/library --no-vignettes --timings SingleMoleculeFootprinting_1.10.0.tar.gz
StartedAt: 2024-02-19 23:14:59 -0500 (Mon, 19 Feb 2024)
EndedAt: 2024-02-19 23:21:24 -0500 (Mon, 19 Feb 2024)
EllapsedTime: 384.9 seconds
RetCode: 0
Status:   OK  
CheckDir: SingleMoleculeFootprinting.Rcheck
Warnings: 0

Command output

##############################################################################
##############################################################################
###
### Running command:
###
###   /Library/Frameworks/R.framework/Resources/bin/R CMD check --install=check:SingleMoleculeFootprinting.install-out.txt --library=/Library/Frameworks/R.framework/Resources/library --no-vignettes --timings SingleMoleculeFootprinting_1.10.0.tar.gz
###
##############################################################################
##############################################################################


* using log directory ‘/Users/biocbuild/bbs-3.18-bioc/meat/SingleMoleculeFootprinting.Rcheck’
* using R version 4.3.2 Patched (2023-11-01 r85457)
* using platform: x86_64-apple-darwin20 (64-bit)
* R was compiled by
    Apple clang version 14.0.3 (clang-1403.0.22.14.1)
    GNU Fortran (GCC) 12.2.0
* running under: macOS Monterey 12.7.1
* using session charset: UTF-8
* using option ‘--no-vignettes’
* checking for file ‘SingleMoleculeFootprinting/DESCRIPTION’ ... OK
* this is package ‘SingleMoleculeFootprinting’ version ‘1.10.0’
* package encoding: UTF-8
* checking package namespace information ... OK
* checking package dependencies ... OK
* checking if this is a source package ... OK
* checking if there is a namespace ... OK
* checking for hidden files and directories ... OK
* checking for portable file names ... OK
* checking for sufficient/correct file permissions ... OK
* checking whether package ‘SingleMoleculeFootprinting’ can be installed ... OK
* checking installed package size ... OK
* checking package directory ... OK
* checking ‘build’ directory ... OK
* checking DESCRIPTION meta-information ... NOTE
Malformed Description field: should contain one or more complete sentences.
* checking top-level files ... OK
* checking for left-over files ... OK
* checking index information ... OK
* checking package subdirectories ... OK
* checking R files for non-ASCII characters ... OK
* checking R files for syntax errors ... OK
* checking whether the package can be loaded ... OK
* checking whether the package can be loaded with stated dependencies ... OK
* checking whether the package can be unloaded cleanly ... OK
* checking whether the namespace can be loaded with stated dependencies ... OK
* checking whether the namespace can be unloaded cleanly ... OK
* checking dependencies in R code ... OK
* checking S3 generic/method consistency ... OK
* checking replacement functions ... OK
* checking foreign function calls ... OK
* checking R code for possible problems ... NOTE
PlotAvgSMF: no visible global function definition for ‘points’
PlotAvgSMF: no visible global function definition for ‘abline’
PlotAvgSMF: no visible global function definition for ‘rect’
PlotAvgSMF: no visible global function definition for ‘text’
PlotSingleMoleculeStack: no visible global function definition for
  ‘points’
SampleCorrelation: no visible global function definition for ‘pairs’
SampleCorrelation: no visible binding for global variable ‘panel.cor’
SampleCorrelation: no visible binding for global variable ‘panel.hist’
SampleCorrelation: no visible binding for global variable ‘panel.jet’
SingleTFStateQuantificationPlot: no visible global function definition
  for ‘points’
SingleTFStateQuantificationPlot: no visible global function definition
  for ‘text’
TFPairStateQuantificationPlot: no visible global function definition
  for ‘points’
TFPairStateQuantificationPlot: no visible global function definition
  for ‘text’
Undefined global functions or variables:
  abline pairs panel.cor panel.hist panel.jet points rect text
Consider adding
  importFrom("graphics", "abline", "pairs", "points", "rect", "text")
to your NAMESPACE file.
* checking Rd files ... OK
* checking Rd metadata ... OK
* checking Rd cross-references ... OK
* checking for missing documentation entries ... OK
* checking for code/documentation mismatches ... OK
* checking Rd \usage sections ... OK
* checking Rd contents ... OK
* checking for unstated dependencies in examples ... OK
* checking files in ‘vignettes’ ... OK
* checking examples ... OK
* checking for unstated dependencies in ‘tests’ ... OK
* checking tests ...
  Running ‘testthat.R’
 OK
* checking for unstated dependencies in vignettes ... OK
* checking package vignettes in ‘inst/doc’ ... OK
* checking running R code from vignettes ... SKIPPED
* checking re-building of vignette outputs ... SKIPPED
* checking PDF version of manual ... OK
* DONE

Status: 2 NOTEs
See
  ‘/Users/biocbuild/bbs-3.18-bioc/meat/SingleMoleculeFootprinting.Rcheck/00check.log’
for details.



Installation output

SingleMoleculeFootprinting.Rcheck/00install.out

##############################################################################
##############################################################################
###
### Running command:
###
###   /Library/Frameworks/R.framework/Resources/bin/R CMD INSTALL SingleMoleculeFootprinting
###
##############################################################################
##############################################################################


* installing to library ‘/Library/Frameworks/R.framework/Versions/4.3-x86_64/Resources/library’
* installing *source* package ‘SingleMoleculeFootprinting’ ...
** using staged installation
** R
** inst
** byte-compile and prepare package for lazy loading
** help
*** installing help indices
** building package indices
** installing vignettes
** testing if installed package can be loaded from temporary location
** testing if installed package can be loaded from final location
** testing if installed package keeps a record of temporary installation path
* DONE (SingleMoleculeFootprinting)

Tests output

SingleMoleculeFootprinting.Rcheck/tests/testthat.Rout


R version 4.3.2 Patched (2023-11-01 r85457) -- "Eye Holes"
Copyright (C) 2023 The R Foundation for Statistical Computing
Platform: x86_64-apple-darwin20 (64-bit)

R is free software and comes with ABSOLUTELY NO WARRANTY.
You are welcome to redistribute it under certain conditions.
Type 'license()' or 'licence()' for distribution details.

R is a collaborative project with many contributors.
Type 'contributors()' for more information and
'citation()' on how to cite R or R packages in publications.

Type 'demo()' for some demos, 'help()' for on-line help, or
'help.start()' for an HTML browser interface to help.
Type 'q()' to quit R.

> library(testthat)
> library(SingleMoleculeFootprinting)
> 
> test_check("SingleMoleculeFootprinting")
Loading required package: BSgenome
Loading required package: BiocGenerics

Attaching package: 'BiocGenerics'

The following objects are masked from 'package:stats':

    IQR, mad, sd, var, xtabs

The following objects are masked from 'package:base':

    Filter, Find, Map, Position, Reduce, anyDuplicated, aperm, append,
    as.data.frame, basename, cbind, colnames, dirname, do.call,
    duplicated, eval, evalq, get, grep, grepl, intersect, is.unsorted,
    lapply, mapply, match, mget, order, paste, pmax, pmax.int, pmin,
    pmin.int, rank, rbind, rownames, sapply, setdiff, sort, table,
    tapply, union, unique, unsplit, which.max, which.min

Loading required package: S4Vectors
Loading required package: stats4

Attaching package: 'S4Vectors'

The following object is masked from 'package:utils':

    findMatches

The following objects are masked from 'package:base':

    I, expand.grid, unname

Loading required package: IRanges
Loading required package: GenomeInfoDb
Loading required package: GenomicRanges
Loading required package: Biostrings
Loading required package: XVector

Attaching package: 'Biostrings'

The following object is masked from 'package:base':

    strsplit

Loading required package: BiocIO
Loading required package: rtracklayer

Attaching package: 'rtracklayer'

The following object is masked from 'package:BiocIO':

    FileForFormat

all necessary alignment files found
Detected experiment type: DE
all necessary alignment files found
see ?SingleMoleculeFootprintingData and browseVignettes('SingleMoleculeFootprintingData') for documentation
loading from cache
counting alignments...done
counting alignments...done
Setting QuasR project
all necessary alignment files found
Calling methylation at all Cytosines
0.9% of reads found with conversion rate above 0.2
Subsetting Cytosines by permissive genomic context (NGCNN, NNCGN)
Collapsing strands
0 reads found mapping to the + strand, collapsing to -
0 reads found mapping to the + strand, collapsing to -
Filtering Cs for coverage
Detected experiment type: DE
Subsetting Cytosines by strict genomic context (GCH, HCG) based on the detected experiment type: DE
Merging matrixes
Collecting summarized methylation for bins
Single TF mode
[ FAIL 0 | WARN 0 | SKIP 0 | PASS 7 ]
> 
> proc.time()
   user  system elapsed 
 30.603   2.610  33.875 

Example timings

SingleMoleculeFootprinting.Rcheck/SingleMoleculeFootprinting-Ex.timings

nameusersystemelapsed
BaitCapture0.2570.0270.288
BinMethylation0.2570.0260.285
CallContextMethylation0.2540.0260.284
ConversionRate0.2450.0250.272
DetectExperimentType0.0000.0010.000
FilterByConversionRate0.2310.0280.263
FilterContextCytosines0.2540.0290.287
GetQuasRprj0.2330.0310.266
GetSingleMolMethMat0.2400.0310.275
PlotAvgSMF0.2390.0330.277
PlotSM0.2500.0300.284
PlotSingleSiteSMF0.2890.0320.325
SortReads0.2780.0250.305
SortReadsBySingleTF0.2350.0250.263
SortReadsByTFCluster0.2520.0270.282
StateQuantificationPlot0.2430.0240.271