Index of /checkResults/release/bioc-LATEST/RTNduals/raw-results

[ICO]NameLast modifiedSizeDescription

[DIR]Parent Directory  -  
[   ]info.dcf09-Dec-2022 01:09 326  
[DIR]kjohnson/12-Jul-2022 00:06 -  
[DIR]lconway/09-Dec-2022 01:09 -  
[DIR]nebbiolo2/09-Dec-2022 01:06 -  
[DIR]palomino4/09-Dec-2022 01:07 -