Index of /checkResults/release/bioc-LATEST/RTNduals/raw-results/nebbiolo2

[ICO]NameLast modifiedSizeDescription

[DIR]Parent Directory  -  
[TXT]buildsrc-out.txt31-Jan-2023 01:05 850  
[   ]buildsrc-summary.dcf31-Jan-2023 01:05 420  
[TXT]checksrc-out.txt31-Jan-2023 01:05 3.4K 
[   ]checksrc-summary.dcf31-Jan-2023 01:05 413  
[TXT]install-out.txt31-Jan-2023 01:05 950  
[   ]install-summary.dcf31-Jan-2023 01:05 261