Index of /checkResults/release/bioc-LATEST/RTNduals/raw-results
Name
Last modified
Size
Description
Parent Directory
-
palomino4/
31-Jan-2023 01:07
-
nebbiolo2/
31-Jan-2023 01:05
-
lconway/
31-Jan-2023 01:08
-
kjohnson/
12-Jul-2022 00:06
-
info.dcf
31-Jan-2023 01:08
326