Back to Multiple platform build/check report for BioC 3.17:   simplified   long
ABCDEFGHIJKLMNOPQ[R]STUVWXYZ

This page was generated on 2023-09-21 11:36:35 -0400 (Thu, 21 Sep 2023).

HostnameOSArch (*)R versionInstalled pkgs
nebbiolo1Linux (Ubuntu 22.04.2 LTS)x86_644.3.1 (2023-06-16) -- "Beagle Scouts" 4625
palomino3Windows Server 2022 Datacenterx644.3.1 (2023-06-16 ucrt) -- "Beagle Scouts" 4378
merida1macOS 12.6.4 Montereyx86_644.3.1 (2023-06-16) -- "Beagle Scouts" 4394
Click on any hostname to see more info about the system (e.g. compilers)      (*) as reported by 'uname -p', except on Windows and Mac OS X

Package 1740/2230HostnameOS / ArchINSTALLBUILDCHECKBUILD BIN
RNAinteract 1.48.0  (landing page)
Mike Smith
Snapshot Date: 2023-09-20 14:00:09 -0400 (Wed, 20 Sep 2023)
git_url: https://git.bioconductor.org/packages/RNAinteract
git_branch: RELEASE_3_17
git_last_commit: ed1ff8f
git_last_commit_date: 2023-04-25 10:18:56 -0400 (Tue, 25 Apr 2023)
nebbiolo1Linux (Ubuntu 22.04.2 LTS) / x86_64  OK    OK    OK  UNNEEDED, same version is already published
palomino3Windows Server 2022 Datacenter / x64  OK    OK    OK    OK  UNNEEDED, same version is already published
merida1macOS 12.6.4 Monterey / x86_64  OK    OK    OK    NA  

CHECK results for RNAinteract on merida1


To the developers/maintainers of the RNAinteract package:
- Allow up to 24 hours (and sometimes 48 hours) for your latest push to git@git.bioconductor.org:packages/RNAinteract.git to reflect on this report. See Troubleshooting Build Report for more information.
- Use the following Renviron settings to reproduce errors and warnings.
- If 'R CMD check' started to fail recently on the Linux builder(s) over a missing dependency, add the missing dependency to 'Suggests:' in your DESCRIPTION file. See Renviron.bioc for more information.

raw results


Summary

Package: RNAinteract
Version: 1.48.0
Command: /Library/Frameworks/R.framework/Resources/bin/R CMD check --install=check:RNAinteract.install-out.txt --library=/Library/Frameworks/R.framework/Resources/library --no-vignettes --timings RNAinteract_1.48.0.tar.gz
StartedAt: 2023-09-21 07:42:07 -0400 (Thu, 21 Sep 2023)
EndedAt: 2023-09-21 07:50:58 -0400 (Thu, 21 Sep 2023)
EllapsedTime: 530.3 seconds
RetCode: 0
Status:   OK  
CheckDir: RNAinteract.Rcheck
Warnings: 0

Command output

##############################################################################
##############################################################################
###
### Running command:
###
###   /Library/Frameworks/R.framework/Resources/bin/R CMD check --install=check:RNAinteract.install-out.txt --library=/Library/Frameworks/R.framework/Resources/library --no-vignettes --timings RNAinteract_1.48.0.tar.gz
###
##############################################################################
##############################################################################


* using log directory ‘/Users/biocbuild/bbs-3.17-bioc/meat/RNAinteract.Rcheck’
* using R version 4.3.1 (2023-06-16)
* using platform: x86_64-apple-darwin20 (64-bit)
* R was compiled by
    Apple clang version 14.0.3 (clang-1403.0.22.14.1)
    GNU Fortran (GCC) 12.2.0
* running under: macOS Monterey 12.6.4
* using session charset: UTF-8
* using option ‘--no-vignettes’
* checking for file ‘RNAinteract/DESCRIPTION’ ... OK
* checking extension type ... Package
* this is package ‘RNAinteract’ version ‘1.48.0’
* checking package namespace information ... OK
* checking package dependencies ... OK
* checking if this is a source package ... OK
* checking if there is a namespace ... OK
* checking for hidden files and directories ... OK
* checking for portable file names ... OK
* checking for sufficient/correct file permissions ... OK
* checking whether package ‘RNAinteract’ can be installed ... OK
* checking installed package size ... OK
* checking package directory ... OK
* checking ‘build’ directory ... OK
* checking DESCRIPTION meta-information ... OK
* checking top-level files ... OK
* checking for left-over files ... OK
* checking index information ... OK
* checking package subdirectories ... OK
* checking R files for non-ASCII characters ... OK
* checking R files for syntax errors ... OK
* checking whether the package can be loaded ... OK
* checking whether the package can be loaded with stated dependencies ... OK
* checking whether the package can be unloaded cleanly ... OK
* checking whether the namespace can be loaded with stated dependencies ... OK
* checking whether the namespace can be unloaded cleanly ... OK
* checking dependencies in R code ... NOTE
Namespace in Imports field not imported from: ‘ICS’
  All declared Imports should be used.
* checking S3 generic/method consistency ... OK
* checking replacement functions ... OK
* checking foreign function calls ... OK
* checking R code for possible problems ... OK
* checking Rd files ... OK
* checking Rd metadata ... OK
* checking Rd cross-references ... OK
* checking for missing documentation entries ... OK
* checking for code/documentation mismatches ... OK
* checking Rd \usage sections ... OK
* checking Rd contents ... OK
* checking for unstated dependencies in examples ... OK
* checking contents of ‘data’ directory ... OK
* checking data for non-ASCII characters ... OK
* checking data for ASCII and uncompressed saves ... OK
* checking sizes of PDF files under ‘inst/doc’ ... OK
* checking files in ‘vignettes’ ... OK
* checking examples ... OK
* checking for unstated dependencies in vignettes ... OK
* checking package vignettes in ‘inst/doc’ ... OK
* checking running R code from vignettes ... SKIPPED
* checking re-building of vignette outputs ... SKIPPED
* checking PDF version of manual ... OK
* DONE

Status: 1 NOTE
See
  ‘/Users/biocbuild/bbs-3.17-bioc/meat/RNAinteract.Rcheck/00check.log’
for details.



Installation output

RNAinteract.Rcheck/00install.out

##############################################################################
##############################################################################
###
### Running command:
###
###   /Library/Frameworks/R.framework/Resources/bin/R CMD INSTALL RNAinteract
###
##############################################################################
##############################################################################


* installing to library ‘/Library/Frameworks/R.framework/Versions/4.3-x86_64/Resources/library’
* installing *source* package ‘RNAinteract’ ...
** using staged installation
** R
** data
** inst
** byte-compile and prepare package for lazy loading
** help
*** installing help indices
** building package indices
** installing vignettes
** testing if installed package can be loaded from temporary location
** testing if installed package can be loaded from final location
** testing if installed package keeps a record of temporary installation path
* DONE (RNAinteract)

Tests output


Example timings

RNAinteract.Rcheck/RNAinteract-Ex.timings

nameusersystemelapsed
RNAinteract-class0.0030.0040.010
bindsamples0.3390.0150.485
computePI0.0330.0030.050
computePValues0.1970.0110.293
embedPCA0.0200.0030.031
estimateMainEffect2.4980.1683.621
getData0.2060.0400.336
getMain0.0120.0170.045
getReplicateData0.0390.0100.084
getSampleNames0.0070.0040.016
getScale0.0060.0020.010
grid.sgiHeatmap0.1340.0230.209
normalizeMainEffectQuery0.1090.0180.173
normalizeMainEffectTemplate0.0900.0200.145
normalizePlateEffect2.9870.1504.284
plotDoublePerturbation0.0790.0050.122
plotHeatmap0.0780.0050.118
reportAnnotation0.0360.0080.065
sgi0.0070.0030.015
sgisubset0.0150.0040.025
startReport0.0290.0070.049
summarizeSamples0.2220.0100.327